BEGIN:VCALENDAR
VERSION:2.0
PRODID:-//Gray Wolf Peak Casino - ECPv6.15.20//NONSGML v1.0//EN
CALSCALE:GREGORIAN
METHOD:PUBLISH
X-ORIGINAL-URL:https://graywolfpeakcasino.com
X-WR-CALDESC:Events for Gray Wolf Peak Casino
REFRESH-INTERVAL;VALUE=DURATION:PT1H
X-Robots-Tag:noindex
X-PUBLISHED-TTL:PT1H
BEGIN:VTIMEZONE
TZID:America/Denver
BEGIN:DAYLIGHT
TZOFFSETFROM:-0700
TZOFFSETTO:-0600
TZNAME:MDT
DTSTART:20240310T090000
END:DAYLIGHT
BEGIN:STANDARD
TZOFFSETFROM:-0600
TZOFFSETTO:-0700
TZNAME:MST
DTSTART:20241103T080000
END:STANDARD
BEGIN:DAYLIGHT
TZOFFSETFROM:-0700
TZOFFSETTO:-0600
TZNAME:MDT
DTSTART:20250309T090000
END:DAYLIGHT
BEGIN:STANDARD
TZOFFSETFROM:-0600
TZOFFSETTO:-0700
TZNAME:MST
DTSTART:20251102T080000
END:STANDARD
BEGIN:DAYLIGHT
TZOFFSETFROM:-0700
TZOFFSETTO:-0600
TZNAME:MDT
DTSTART:20260308T090000
END:DAYLIGHT
BEGIN:STANDARD
TZOFFSETFROM:-0600
TZOFFSETTO:-0700
TZNAME:MST
DTSTART:20261101T080000
END:STANDARD
END:VTIMEZONE
BEGIN:VEVENT
DTSTART;TZID=America/Denver:20251022T100000
DTEND;TZID=America/Denver:20251022T190000
DTSTAMP:20260419T170823
CREATED:20250923T164749Z
LAST-MODIFIED:20250923T164749Z
UID:29128-1761127200-1761159600@graywolfpeakcasino.com
SUMMARY:Pays to Play
DESCRIPTION:Pays to Play\nIt Pays to Play at Gray Wolf Peak Casino! Receive $15 in Xtra Credit for every 500 points played up to 5 times every Wednesday! Stop by today and play your favorite games! \nDates and Times of Promotion:\n• Start/End Date(s): Wednesday\, October 1 – Wednesday\, November 26\n• Times: Wednesdays in October and November\, 10:00 am – 7:00 pm \nPromotional Eligibility Requirements:\nA. Patrons must be actively playing a slot machine with a properly inserted players club card between promotional days and hours to earn points for this promotion.\nB. This promotion is only valid on Wednesdays from October 1 – November 26\, 2025 – 10:00 am – 7:00 pm.\nC. Participants can redeem $15 Xtra Credit for every 500 points played\, up to 5 times daily within the promotional timeframe.\nD. Players can only redeem this offer on the same Wednesday that the points are earned.\nE. Xtra Credit must be redeemed at the Players Club.\nF. Play after 7:00 pm does not qualify for this promotion\, guests MUST redeem their Xtra Credit offer before 7:00 pm.\nG. Guest must redeem in the promotional timeframe. No redemptions after 7:00
URL:https://graywolfpeakcasino.com/event/pays-to-play-4/
CATEGORIES:Promotions
ATTACH;FMTTYPE=image/jpeg:https://graywolfpeakcasino.com/wp-content/uploads/2025/09/gwppaystoplay-1920x1080-1.jpg
END:VEVENT
BEGIN:VEVENT
DTSTART;TZID=America/Denver:20251022T180000
DTEND;TZID=America/Denver:20251022T200000
DTSTAMP:20260419T170823
CREATED:20250924T183706Z
LAST-MODIFIED:20250924T183706Z
UID:29148-1761156000-1761163200@graywolfpeakcasino.com
SUMMARY:Mixed Tape Music Bingo
DESCRIPTION:Mixed Tape Music Bingo\nWednesdays at Lassaw Bar and Restaurant from 6PM – 8 PM. 50% of all proceeds are donated to a local organization.
URL:https://graywolfpeakcasino.com/event/mixed-tape-music-bingo-4/
CATEGORIES:Bingo,Lassaw Events
ATTACH;FMTTYPE=image/jpeg:https://graywolfpeakcasino.com/wp-content/uploads/2025/08/bingo-1920x1080-1.jpg
END:VEVENT
END:VCALENDAR