BEGIN:VCALENDAR
VERSION:2.0
PRODID:-//Gray Wolf Peak Casino - ECPv6.15.20//NONSGML v1.0//EN
CALSCALE:GREGORIAN
METHOD:PUBLISH
X-WR-CALNAME:Gray Wolf Peak Casino
X-ORIGINAL-URL:https://graywolfpeakcasino.com
X-WR-CALDESC:Events for Gray Wolf Peak Casino
REFRESH-INTERVAL;VALUE=DURATION:PT1H
X-Robots-Tag:noindex
X-PUBLISHED-TTL:PT1H
BEGIN:VTIMEZONE
TZID:America/Denver
BEGIN:DAYLIGHT
TZOFFSETFROM:-0700
TZOFFSETTO:-0600
TZNAME:MDT
DTSTART:20250309T090000
END:DAYLIGHT
BEGIN:STANDARD
TZOFFSETFROM:-0600
TZOFFSETTO:-0700
TZNAME:MST
DTSTART:20251102T080000
END:STANDARD
BEGIN:DAYLIGHT
TZOFFSETFROM:-0700
TZOFFSETTO:-0600
TZNAME:MDT
DTSTART:20260308T090000
END:DAYLIGHT
BEGIN:STANDARD
TZOFFSETFROM:-0600
TZOFFSETTO:-0700
TZNAME:MST
DTSTART:20261101T080000
END:STANDARD
BEGIN:DAYLIGHT
TZOFFSETFROM:-0700
TZOFFSETTO:-0600
TZNAME:MDT
DTSTART:20270314T090000
END:DAYLIGHT
BEGIN:STANDARD
TZOFFSETFROM:-0600
TZOFFSETTO:-0700
TZNAME:MST
DTSTART:20271107T080000
END:STANDARD
END:VTIMEZONE
BEGIN:VEVENT
DTSTART;TZID=America/Denver:20260110T210000
DTEND;TZID=America/Denver:20260111T010000
DTSTAMP:20260419T193825
CREATED:20260108T173456Z
LAST-MODIFIED:20260108T173456Z
UID:29385-1768078800-1768093200@graywolfpeakcasino.com
SUMMARY:Karaoke Night at Lassaw
DESCRIPTION:Karaoke Night at Lassaw inside of Gray Wolf Peak Casino\n\n\nGet ready to unleash your inner superstar at Karaoke Night at Lassaw Bar & Grill\, within the Gray Wolf Peak Casino. Mark your calendars for two evenings on January 10th and January 24th. \n\n\nEvent Details\n\n\nLocation: Lassaw Bar & Grill\, Gray Wolf Peak Casino\nDates: January 10th and January 24th\nTime: 9 PM – 1 AM\n\n\nWhat to Expect\n\n\nJoin us for an evening filled with music\, laughter\, and incredible performances. Whether you’re a seasoned performer or a first-time singer\, the stage is yours. Choose from a vast selection of songs and sing your heart out in front of a supportive audience. \n\n\nTreat yourself to drinks and snacks as you enjoy the lively atmosphere. Friends and family are welcome\, so bring along your favorite people to share the fun. \n\n\nDon’t miss out on these exciting nights of entertainment. Arrive early to grab the best seat and prepare for an unforgettable night of karaoke at Gray Wolf Peak Casino. See you there! \n\n\nAdditional Information\nFor more information about this promotion and other promotions and club member benefits\, call or visit our friendly Players Club team! \nExplore S&K Gaming\, LLC\nS&K Gaming\, LLC oversees three establishments on the Flathead Indian Reservation! Kwataqnuk Resort & Casino\, Big Arm Resort & Casino\, and Gray Wolf Peak Casino each have something different to offer everyone! From million-dollar views of the pristine Flathead Lake and the Mission Mountains\, dining\, club member benefits\, golf\, gas\, a banquet hall for various events\, and the largest casino in Montana\, S&K Gaming\, LLC has you covered. \nLearn More\nInterested in learning more about S&K Gaming\, LLC and our other locations? Visit our website at https://skgamingllc.com/.
URL:https://graywolfpeakcasino.com/event/karaoke-night-at-lassaw-2/
CATEGORIES:Event,karaoke
ATTACH;FMTTYPE=image/jpeg:https://graywolfpeakcasino.com/wp-content/uploads/2026/01/karaoke-1920x1080-1.jpg
END:VEVENT
END:VCALENDAR