BEGIN:VCALENDAR
VERSION:2.0
PRODID:-//Gray Wolf Peak Casino - ECPv6.15.20//NONSGML v1.0//EN
CALSCALE:GREGORIAN
METHOD:PUBLISH
X-WR-CALNAME:Gray Wolf Peak Casino
X-ORIGINAL-URL:https://graywolfpeakcasino.com
X-WR-CALDESC:Events for Gray Wolf Peak Casino
REFRESH-INTERVAL;VALUE=DURATION:PT1H
X-Robots-Tag:noindex
X-PUBLISHED-TTL:PT1H
BEGIN:VTIMEZONE
TZID:America/Denver
BEGIN:DAYLIGHT
TZOFFSETFROM:-0700
TZOFFSETTO:-0600
TZNAME:MDT
DTSTART:20250309T090000
END:DAYLIGHT
BEGIN:STANDARD
TZOFFSETFROM:-0600
TZOFFSETTO:-0700
TZNAME:MST
DTSTART:20251102T080000
END:STANDARD
BEGIN:DAYLIGHT
TZOFFSETFROM:-0700
TZOFFSETTO:-0600
TZNAME:MDT
DTSTART:20260308T090000
END:DAYLIGHT
BEGIN:STANDARD
TZOFFSETFROM:-0600
TZOFFSETTO:-0700
TZNAME:MST
DTSTART:20261101T080000
END:STANDARD
BEGIN:DAYLIGHT
TZOFFSETFROM:-0700
TZOFFSETTO:-0600
TZNAME:MDT
DTSTART:20270314T090000
END:DAYLIGHT
BEGIN:STANDARD
TZOFFSETFROM:-0600
TZOFFSETTO:-0700
TZNAME:MST
DTSTART:20271107T080000
END:STANDARD
END:VTIMEZONE
BEGIN:VEVENT
DTSTART;VALUE=DATE:20260213
DTEND;VALUE=DATE:20260214
DTSTAMP:20260420T221452
CREATED:20260106T180830Z
LAST-MODIFIED:20260106T180830Z
UID:29342-1770940800-1771027199@graywolfpeakcasino.com
SUMMARY:$5 Fridays
DESCRIPTION:Get two bottles of domestic beer for just $5! Every Friday at Lassaw Bar & Grill inside of Gray Wolf Peak Casino. *Must be 21+!
URL:https://graywolfpeakcasino.com/event/5-fridays-17/
CATEGORIES:Lassaw Events,specials
ATTACH;FMTTYPE=image/jpeg:https://graywolfpeakcasino.com/wp-content/uploads/2025/09/Beer-special-1920x1080-1.jpg
END:VEVENT
BEGIN:VEVENT
DTSTART;TZID=America/Denver:20260213T210000
DTEND;TZID=America/Denver:20260214T010000
DTSTAMP:20260420T221452
CREATED:20260205T180921Z
LAST-MODIFIED:20260205T181249Z
UID:29448-1771016400-1771030800@graywolfpeakcasino.com
SUMMARY:Solo Singles at Lassaw Bar & Grill
DESCRIPTION:Solo Singles at Lassaw Bar & Grill: A Night to Remember\n\n\nJoin us for an unforgettable night at the Solo Singles Event at Lassaw Bar & Grill\, located in Gray Wolf Peak Casino. Mark your calendar for Friday\, February 13th\, from 9 PM to 1 AM\, as we host a Solo Cup Party that promises to be the highlight of your Valentine’s Day weekend. \n\n\nExperience the Fun\n\n\nKick off the night with your solo cup color\, each color telling a story of its own. Choose your cup wisely: \n\n\nRed: Taken\nGreen: Single\nYellow: It’s Complicated\nOrange: Drinking to Forget\n\n\nKaraoke and Drink Specials\n\n\nLet your voice shine with our lively Karaoke sessions throughout the night. Whether you’re a seasoned performer or a first-timer\, our supportive crowd will cheer you on. Enjoy exclusive drink specials to keep the energy high and the spirits lifted. \n\n\nCelebrate Valentine’s Day Differently\n\n\nEmbrace the spirit of Valentine’s Day with a fresh perspective at Lassaw. This event is perfect for anyone looking to mingle\, meet new people\, and have a great time. Whether you’re single\, taken\, or somewhere in between\, you’ll find a welcoming atmosphere and lots of fun. \n\n\nDon’t miss out on one of the most talked-about Valentine’s Day events. Invite your friends and make lasting memories at the Solo Singles party at Lassaw. \n\n\nAdditional Information\nFor more information about this event\, promotions\, or club member benefits\, call or visit our friendly Players Club team! \nExplore S&K Gaming\, LLC\nS&K Gaming\, LLC oversees three establishments on the Flathead Indian Reservation! Kwataqnuk Resort & Casino\, Big Arm Resort & Casino\, and Gray Wolf Peak Casino each have something different to offer everyone! From million-dollar views of the pristine Flathead Lake and the Mission Mountains\, dining\, club member benefits\, golf\, gas\, a banquet hall for various events\, and the largest casino in Montana\, S&K Gaming\, LLC has you covered. \nLearn More\nInterested in learning more about S&K Gaming\, LLC and our other locations? Visit our website at https://skgamingllc.com/.
URL:https://graywolfpeakcasino.com/event/solo-singles-at-lassaw-bar-grill/
CATEGORIES:Event,karaoke,party
ATTACH;FMTTYPE=image/jpeg:https://graywolfpeakcasino.com/wp-content/uploads/2026/02/solosingles-1920x1080-1.jpg
END:VEVENT
BEGIN:VEVENT
DTSTART;TZID=America/Denver:20260213T210000
DTEND;TZID=America/Denver:20260214T010000
DTSTAMP:20260420T221452
CREATED:20260205T191144Z
LAST-MODIFIED:20260205T191144Z
UID:29457-1771016400-1771030800@graywolfpeakcasino.com
SUMMARY:Karaoke Night at Lassaw
DESCRIPTION:Karaoke Night at Lassaw inside of Gray Wolf Peak Casino\n\n\nGet ready to unleash your inner superstar at Karaoke Night at Lassaw Bar & Grill\, within the Gray Wolf Peak Casino. Mark your calendars for two evenings on February 13th and February 28th. \n\n\nEvent Details\n\n\nLocation: Lassaw Bar & Grill\, Gray Wolf Peak Casino\nDates: February 13th and February 28th\nTime: 9 PM – 1 AM\n\n\nWhat to Expect\n\n\nJoin us for an evening filled with music\, laughter\, and incredible performances. Whether you’re a seasoned performer or a first-time singer\, the stage is yours. Choose from a vast selection of songs and sing your heart out in front of a supportive audience. \n\n\nTreat yourself to drinks and snacks as you enjoy the lively atmosphere. Friends and family are welcome\, so bring along your favorite people to share the fun. \n\n\nDon’t miss out on these exciting nights of entertainment. Arrive early to grab the best seat and prepare for an unforgettable night of karaoke at Gray Wolf Peak Casino. See you there! \n\n\nAdditional Information\nFor more information about this promotion and other promotions and club member benefits\, call or visit our friendly Players Club team! \nExplore S&K Gaming\, LLC\nS&K Gaming\, LLC oversees three establishments on the Flathead Indian Reservation! Kwataqnuk Resort & Casino\, Big Arm Resort & Casino\, and Gray Wolf Peak Casino each have something different to offer everyone! From million-dollar views of the pristine Flathead Lake and the Mission Mountains\, dining\, club member benefits\, golf\, gas\, a banquet hall for various events\, and the largest casino in Montana\, S&K Gaming\, LLC has you covered. \nLearn More\nInterested in learning more about S&K Gaming\, LLC and our other locations? Visit our website at https://skgamingllc.com/.
URL:https://graywolfpeakcasino.com/event/karaoke-night-at-lassaw-4/
CATEGORIES:Event,karaoke
ATTACH;FMTTYPE=image/jpeg:https://graywolfpeakcasino.com/wp-content/uploads/2026/02/feb-karaoke-1920x1080-1.jpg
END:VEVENT
END:VCALENDAR