BEGIN:VCALENDAR
VERSION:2.0
PRODID:-//Gray Wolf Peak Casino - ECPv6.15.20//NONSGML v1.0//EN
CALSCALE:GREGORIAN
METHOD:PUBLISH
X-WR-CALNAME:Gray Wolf Peak Casino
X-ORIGINAL-URL:https://graywolfpeakcasino.com
X-WR-CALDESC:Events for Gray Wolf Peak Casino
REFRESH-INTERVAL;VALUE=DURATION:PT1H
X-Robots-Tag:noindex
X-PUBLISHED-TTL:PT1H
BEGIN:VTIMEZONE
TZID:America/Denver
BEGIN:DAYLIGHT
TZOFFSETFROM:-0700
TZOFFSETTO:-0600
TZNAME:MDT
DTSTART:20250309T090000
END:DAYLIGHT
BEGIN:STANDARD
TZOFFSETFROM:-0600
TZOFFSETTO:-0700
TZNAME:MST
DTSTART:20251102T080000
END:STANDARD
BEGIN:DAYLIGHT
TZOFFSETFROM:-0700
TZOFFSETTO:-0600
TZNAME:MDT
DTSTART:20260308T090000
END:DAYLIGHT
BEGIN:STANDARD
TZOFFSETFROM:-0600
TZOFFSETTO:-0700
TZNAME:MST
DTSTART:20261101T080000
END:STANDARD
BEGIN:DAYLIGHT
TZOFFSETFROM:-0700
TZOFFSETTO:-0600
TZNAME:MDT
DTSTART:20270314T090000
END:DAYLIGHT
BEGIN:STANDARD
TZOFFSETFROM:-0600
TZOFFSETTO:-0700
TZNAME:MST
DTSTART:20271107T080000
END:STANDARD
END:VTIMEZONE
BEGIN:VEVENT
DTSTART;TZID=America/Denver:20260421T100000
DTEND;TZID=America/Denver:20260422T010000
DTSTAMP:20260421T013234
CREATED:20260319T161758Z
LAST-MODIFIED:20260319T161758Z
UID:29652-1776765600-1776819600@graywolfpeakcasino.com
SUMMARY:Make Mine a Pitcher
DESCRIPTION:Make Mine a Pitcher: MLB Tuesdays at Lassaw Bar & Grill\nJoin Us for MLB Draft Pitcher Specials Every Tuesday!\nLooking for the perfect place to enjoy baseball and great drinks? Head over to Lassaw Bar & Grill every Tuesday for “Make Mine a Pitcher”. Dive into the action of Major League Baseball while enjoying our unbeatable draft pitcher specials. \nWhat to Expect:\n\n\n\nExclusive Draft Pitcher Deals: Enjoy a selection of your favorite draft beers at special prices. \n\n\nLive MLB Games: Catch all the excitement of the MLB season on our various TV screens. \n\n\n\nEvent Details:\n\n\n\nWhen: Every Tuesday \n\n\nWhere: Lassaw Bar & Grill\, your local hub for sports and entertainment \n\n\nTime: All day\, from opening until closing \n\n\n\nLassaw Bar & Grill is the ultimate destination for sports lovers and beer enthusiasts. Our “Make Mine a Pitcher” Tuesdays offer the perfect opportunity to unwind\, cheer for your favorite team\, and enjoy excellent company. Are you a casual fan or a die-hard supporter? Either way\, we’ve got great drinks and even better vibes. \nGather your friends\, grab a pitcher\, and make Tuesdays your favorite day of the week at Lassaw Bar & Grill. We can’t wait to see you there! \nCall 406-726-3778 for more details. \n\nAdditional Information\n\n\nFor more information about this promotion and other promotions and club member benefits\, call or visit our friendly Players Club team! \n\n\nExplore S&K Gaming\, LLC\n\n\nS&K Gaming\, LLC oversees three establishments on the Flathead Indian Reservation! Kwataqnuk Resort & Casino\, Big Arm Resort & Casino\, and Gray Wolf Peak Casino each have something different to offer everyone! From million-dollar views of the pristine Flathead Lake and the Mission Mountains\, dining\, club member benefits\, golf\, gas\, a banquet hall for various events\, and the largest casino in Montana\, S&K Gaming\, LLC has you covered. \n\n\nLearn More\n\n\nInterested in learning more about S&K Gaming\, LLC and our other locations? Visit our website at https://skgamingllc.com/.
URL:https://graywolfpeakcasino.com/event/make-mine-a-pitcher-3/
CATEGORIES:Lassaw Events,specials
ATTACH;FMTTYPE=image/jpeg:https://graywolfpeakcasino.com/wp-content/uploads/2026/03/GWP_Digital_April_Event_Calendar_1920x1080_2.jpg
END:VEVENT
BEGIN:VEVENT
DTSTART;TZID=America/Denver:20260421T100000
DTEND;TZID=America/Denver:20260422T020000
DTSTAMP:20260421T013234
CREATED:20260316T194356Z
LAST-MODIFIED:20260316T194356Z
UID:29605-1776765600-1776823200@graywolfpeakcasino.com
SUMMARY:Service Industry Nights at Lassaw
DESCRIPTION:Service Industry Nights at Lassaw\nCelebrate and unwind on Tuesdays starting in March with Service Industry Nights at Lassaw! Join us every Tuesday at Lassaw for our exclusive Service Industry Night\, dedicated to the hard-working individuals who keep the service and hospitality sector thriving. This special evening is designed to offer a well-deserved break and networking opportunities. \nExclusive Offers for Service Industry Professionals\n\n\n\n10% Off Total Bill: Enjoy a 10% discount on both food and beverages \n\n\nShot Specials: Take advantage of our shot specials crafted just for you \n\n\n\nUnwind\, Enjoy\, Network and Connect\nOur Service Industry Night is all about relaxation\, it’s the perfect setting to step away from your professional responsibilities and indulge. Meet fellow service industry professionals\, share experiences\, and make valuable connections. Relax and build a strong community among those who understand the demands of working in hospitality. \nImportant Information\n\n\n\nProof of Employment Required: Please display proof that you work in the service industry to participate in our exclusive offers. \n\n\nSee Lassaw Staff for More Information: Our friendly staff is available to provide any additional details or assistance you may need. \n\n\n\nJoin us for Service Industry Night at Lassaw\, where your hard work is celebrated every Tuesday starting in March. We look forward to welcoming you for a night of fun\, camaraderie\, and appreciation! \nCall 406-726-3778 for more details. \n\nAdditional Information\n\n\nFor more information about this promotion and other promotions and club member benefits\, call or visit our friendly Players Club team! \n\n\nExplore S&K Gaming\, LLC\n\n\nS&K Gaming\, LLC oversees three establishments on the Flathead Indian Reservation! Kwataqnuk Resort & Casino\, Big Arm Resort & Casino\, and Gray Wolf Peak Casino each have something different to offer everyone! From million-dollar views of the pristine Flathead Lake and the Mission Mountains\, dining\, club member benefits\, golf\, gas\, a banquet hall for various events\, and the largest casino in Montana\, S&K Gaming\, LLC has you covered. \n\n\nLearn More\n\n\nInterested in learning more about S&K Gaming\, LLC and our other locations? Visit our website at https://skgamingllc.com/.
URL:https://graywolfpeakcasino.com/event/service-industry-nights-at-lassaw-8/
CATEGORIES:Event,Lassaw Events,specials
ATTACH;FMTTYPE=image/jpeg:https://graywolfpeakcasino.com/wp-content/uploads/2026/02/serviceindustry-1920x1080-1.jpg
END:VEVENT
BEGIN:VEVENT
DTSTART;TZID=America/Denver:20260421T120000
DTEND;TZID=America/Denver:20260421T190000
DTSTAMP:20260421T013234
CREATED:20260316T194114Z
LAST-MODIFIED:20260316T194114Z
UID:29597-1776772800-1776798000@graywolfpeakcasino.com
SUMMARY:Forever Young - Gray Wolf
DESCRIPTION:Forever Young – Gray Wolf Peak Casino!\nStay Forever Young at Gray Wolf Peak Casino! \nWe are calling all SKG Premier Rewards members ages 50 and older! Did you know that if you visit Gray Wolf Peak Casino on Tuesdays from 12pm to 7pm and earn 50 points\, you can redeem a $10 food credit to Lassaw Bar & Grill? It’s true! To earn points\, you just have to be carded in while playing! Have questions? Please stop in and visit our friendly players club representatives for details. If you are interested in viewing the Lassaw Bar & Grill menu\, you can click this MENU LINK! \nBut wait! There’s more! You can also take advantage of this great offer at any of our S&K Gaming locations! That’s right\, you can earn 50 points at Big Arm Resort & Casino and Kwataqnuk Resort & Casino to redeem a $10 dining credit to Falling Waters or Big Arm Restaurant! \nStay Forever Young at Big Arm Resort & Casino on THURSDAYS! Big Arm Casino is open from 12:00pm to 10:00pm\, and the restaurant is open from 12:00pm to 9:00pm. Here is the current Big Arm Restaurant MENU. \nOr stay Forever Young at Kwataqnuk Resort & Casino on WEDNESDAYS! Here is the current Falling Waters MENU.
URL:https://graywolfpeakcasino.com/event/forever-young-gray-wolf-86/
CATEGORIES:Food,Promotions
ATTACH;FMTTYPE=image/jpeg:https://graywolfpeakcasino.com/wp-content/uploads/2024/12/foreveryoung-1920x1080-2.jpg
END:VEVENT
END:VCALENDAR