BEGIN:VCALENDAR
VERSION:2.0
PRODID:-//Gray Wolf Peak Casino - ECPv6.15.20//NONSGML v1.0//EN
CALSCALE:GREGORIAN
METHOD:PUBLISH
X-WR-CALNAME:Gray Wolf Peak Casino
X-ORIGINAL-URL:https://graywolfpeakcasino.com
X-WR-CALDESC:Events for Gray Wolf Peak Casino
REFRESH-INTERVAL;VALUE=DURATION:PT1H
X-Robots-Tag:noindex
X-PUBLISHED-TTL:PT1H
BEGIN:VTIMEZONE
TZID:America/Denver
BEGIN:DAYLIGHT
TZOFFSETFROM:-0700
TZOFFSETTO:-0600
TZNAME:MDT
DTSTART:20250309T090000
END:DAYLIGHT
BEGIN:STANDARD
TZOFFSETFROM:-0600
TZOFFSETTO:-0700
TZNAME:MST
DTSTART:20251102T080000
END:STANDARD
BEGIN:DAYLIGHT
TZOFFSETFROM:-0700
TZOFFSETTO:-0600
TZNAME:MDT
DTSTART:20260308T090000
END:DAYLIGHT
BEGIN:STANDARD
TZOFFSETFROM:-0600
TZOFFSETTO:-0700
TZNAME:MST
DTSTART:20261101T080000
END:STANDARD
BEGIN:DAYLIGHT
TZOFFSETFROM:-0700
TZOFFSETTO:-0600
TZNAME:MDT
DTSTART:20270314T090000
END:DAYLIGHT
BEGIN:STANDARD
TZOFFSETFROM:-0600
TZOFFSETTO:-0700
TZNAME:MST
DTSTART:20271107T080000
END:STANDARD
END:VTIMEZONE
BEGIN:VEVENT
DTSTART;TZID=America/Denver:20260428T100000
DTEND;TZID=America/Denver:20260429T010000
DTSTAMP:20260422T234354
CREATED:20260319T161833Z
LAST-MODIFIED:20260319T161833Z
UID:29654-1777370400-1777424400@graywolfpeakcasino.com
SUMMARY:Make Mine a Pitcher
DESCRIPTION:Make Mine a Pitcher: MLB Tuesdays at Lassaw Bar & Grill\nJoin Us for MLB Draft Pitcher Specials Every Tuesday!\nLooking for the perfect place to enjoy baseball and great drinks? Head over to Lassaw Bar & Grill every Tuesday for “Make Mine a Pitcher”. Dive into the action of Major League Baseball while enjoying our unbeatable draft pitcher specials. \nWhat to Expect:\n\n\n\nExclusive Draft Pitcher Deals: Enjoy a selection of your favorite draft beers at special prices. \n\n\nLive MLB Games: Catch all the excitement of the MLB season on our various TV screens. \n\n\n\nEvent Details:\n\n\n\nWhen: Every Tuesday \n\n\nWhere: Lassaw Bar & Grill\, your local hub for sports and entertainment \n\n\nTime: All day\, from opening until closing \n\n\n\nLassaw Bar & Grill is the ultimate destination for sports lovers and beer enthusiasts. Our “Make Mine a Pitcher” Tuesdays offer the perfect opportunity to unwind\, cheer for your favorite team\, and enjoy excellent company. Are you a casual fan or a die-hard supporter? Either way\, we’ve got great drinks and even better vibes. \nGather your friends\, grab a pitcher\, and make Tuesdays your favorite day of the week at Lassaw Bar & Grill. We can’t wait to see you there! \nCall 406-726-3778 for more details. \n\nAdditional Information\n\n\nFor more information about this promotion and other promotions and club member benefits\, call or visit our friendly Players Club team! \n\n\nExplore S&K Gaming\, LLC\n\n\nS&K Gaming\, LLC oversees three establishments on the Flathead Indian Reservation! Kwataqnuk Resort & Casino\, Big Arm Resort & Casino\, and Gray Wolf Peak Casino each have something different to offer everyone! From million-dollar views of the pristine Flathead Lake and the Mission Mountains\, dining\, club member benefits\, golf\, gas\, a banquet hall for various events\, and the largest casino in Montana\, S&K Gaming\, LLC has you covered. \n\n\nLearn More\n\n\nInterested in learning more about S&K Gaming\, LLC and our other locations? Visit our website at https://skgamingllc.com/.
URL:https://graywolfpeakcasino.com/event/make-mine-a-pitcher-4/
CATEGORIES:Lassaw Events,specials
ATTACH;FMTTYPE=image/jpeg:https://graywolfpeakcasino.com/wp-content/uploads/2026/03/GWP_Digital_April_Event_Calendar_1920x1080_2.jpg
END:VEVENT
BEGIN:VEVENT
DTSTART;TZID=America/Denver:20260428T100000
DTEND;TZID=America/Denver:20260429T020000
DTSTAMP:20260422T234354
CREATED:20260316T194420Z
LAST-MODIFIED:20260316T194420Z
UID:29607-1777370400-1777428000@graywolfpeakcasino.com
SUMMARY:Service Industry Nights at Lassaw
DESCRIPTION:Service Industry Nights at Lassaw\nCelebrate and unwind on Tuesdays starting in March with Service Industry Nights at Lassaw! Join us every Tuesday at Lassaw for our exclusive Service Industry Night\, dedicated to the hard-working individuals who keep the service and hospitality sector thriving. This special evening is designed to offer a well-deserved break and networking opportunities. \nExclusive Offers for Service Industry Professionals\n\n\n\n10% Off Total Bill: Enjoy a 10% discount on both food and beverages \n\n\nShot Specials: Take advantage of our shot specials crafted just for you \n\n\n\nUnwind\, Enjoy\, Network and Connect\nOur Service Industry Night is all about relaxation\, it’s the perfect setting to step away from your professional responsibilities and indulge. Meet fellow service industry professionals\, share experiences\, and make valuable connections. Relax and build a strong community among those who understand the demands of working in hospitality. \nImportant Information\n\n\n\nProof of Employment Required: Please display proof that you work in the service industry to participate in our exclusive offers. \n\n\nSee Lassaw Staff for More Information: Our friendly staff is available to provide any additional details or assistance you may need. \n\n\n\nJoin us for Service Industry Night at Lassaw\, where your hard work is celebrated every Tuesday starting in March. We look forward to welcoming you for a night of fun\, camaraderie\, and appreciation! \nCall 406-726-3778 for more details. \n\nAdditional Information\n\n\nFor more information about this promotion and other promotions and club member benefits\, call or visit our friendly Players Club team! \n\n\nExplore S&K Gaming\, LLC\n\n\nS&K Gaming\, LLC oversees three establishments on the Flathead Indian Reservation! Kwataqnuk Resort & Casino\, Big Arm Resort & Casino\, and Gray Wolf Peak Casino each have something different to offer everyone! From million-dollar views of the pristine Flathead Lake and the Mission Mountains\, dining\, club member benefits\, golf\, gas\, a banquet hall for various events\, and the largest casino in Montana\, S&K Gaming\, LLC has you covered. \n\n\nLearn More\n\n\nInterested in learning more about S&K Gaming\, LLC and our other locations? Visit our website at https://skgamingllc.com/.
URL:https://graywolfpeakcasino.com/event/service-industry-nights-at-lassaw-9/
CATEGORIES:Event,Lassaw Events,specials
ATTACH;FMTTYPE=image/jpeg:https://graywolfpeakcasino.com/wp-content/uploads/2026/02/serviceindustry-1920x1080-1.jpg
END:VEVENT
BEGIN:VEVENT
DTSTART;TZID=America/Denver:20260429T180000
DTEND;TZID=America/Denver:20260429T200000
DTSTAMP:20260422T234354
CREATED:20260316T195121Z
LAST-MODIFIED:20260316T195121Z
UID:29625-1777485600-1777492800@graywolfpeakcasino.com
SUMMARY:Mixed Tape Music Bingo
DESCRIPTION:Mixed Tape Music Bingo\nJoin us every Wednesday for Mixed Tape Music Bingo at Lassaw Bar & Grill from 6PM – 8 PM. 50% of all proceeds are donated to a local organization. \nAdditional Information\nFor more information about this event\, promotions\, or club member benefits\, call or visit our friendly Players Club team! \nExplore S&K Gaming\, LLC\nS&K Gaming\, LLC oversees three establishments on the Flathead Indian Reservation! Kwataqnuk Resort & Casino\, Big Arm Resort & Casino\, and Gray Wolf Peak Casino each have something different to offer everyone! From million-dollar views of the pristine Flathead Lake and the Mission Mountains\, dining\, club member benefits\, golf\, gas\, a banquet hall for various events\, and the largest casino in Montana\, S&K Gaming\, LLC has you covered. \nLearn More\nInterested in learning more about S&K Gaming\, LLC and our other locations? Visit our website at https://skgamingllc.com/.
URL:https://graywolfpeakcasino.com/event/mixed-tape-music-bingo-22/
CATEGORIES:Bingo,Lassaw Events
ATTACH;FMTTYPE=image/jpeg:https://graywolfpeakcasino.com/wp-content/uploads/2026/03/GWP_Digital_April_Event_Calendar_1920x1080_3.jpg
END:VEVENT
END:VCALENDAR