BEGIN:VCALENDAR
VERSION:2.0
PRODID:-//Gray Wolf Peak Casino - ECPv6.15.20//NONSGML v1.0//EN
CALSCALE:GREGORIAN
METHOD:PUBLISH
X-WR-CALNAME:Gray Wolf Peak Casino
X-ORIGINAL-URL:https://graywolfpeakcasino.com
X-WR-CALDESC:Events for Gray Wolf Peak Casino
REFRESH-INTERVAL;VALUE=DURATION:PT1H
X-Robots-Tag:noindex
X-PUBLISHED-TTL:PT1H
BEGIN:VTIMEZONE
TZID:America/Denver
BEGIN:DAYLIGHT
TZOFFSETFROM:-0700
TZOFFSETTO:-0600
TZNAME:MDT
DTSTART:20250309T090000
END:DAYLIGHT
BEGIN:STANDARD
TZOFFSETFROM:-0600
TZOFFSETTO:-0700
TZNAME:MST
DTSTART:20251102T080000
END:STANDARD
BEGIN:DAYLIGHT
TZOFFSETFROM:-0700
TZOFFSETTO:-0600
TZNAME:MDT
DTSTART:20260308T090000
END:DAYLIGHT
BEGIN:STANDARD
TZOFFSETFROM:-0600
TZOFFSETTO:-0700
TZNAME:MST
DTSTART:20261101T080000
END:STANDARD
BEGIN:DAYLIGHT
TZOFFSETFROM:-0700
TZOFFSETTO:-0600
TZNAME:MDT
DTSTART:20270314T090000
END:DAYLIGHT
BEGIN:STANDARD
TZOFFSETFROM:-0600
TZOFFSETTO:-0700
TZNAME:MST
DTSTART:20271107T080000
END:STANDARD
END:VTIMEZONE
BEGIN:VEVENT
DTSTART;TZID=America/Denver:20260526T100000
DTEND;TZID=America/Denver:20260527T010000
DTSTAMP:20260423T011347
CREATED:20260409T162458Z
LAST-MODIFIED:20260409T162458Z
UID:29698-1779789600-1779843600@graywolfpeakcasino.com
SUMMARY:Make Mine a Pitcher
DESCRIPTION:Make Mine a Pitcher: MLB Tuesdays at Lassaw Bar & Grill\nJoin Us for MLB Draft Pitcher Specials Every Tuesday!\nLooking for the perfect place to enjoy baseball and great drinks? Head over to Lassaw Bar & Grill every Tuesday for “Make Mine a Pitcher”. Dive into the action of Major League Baseball while enjoying our unbeatable draft pitcher specials. \nWhat to Expect:\n\n\n\nExclusive Draft Pitcher Deals: Enjoy a selection of your favorite draft beers at special prices. \n\n\nLive MLB Games: Catch all the excitement of the MLB season on our various TV screens. \n\n\n\nEvent Details:\n\n\n\nWhen: Every Tuesday \n\n\nWhere: Lassaw Bar & Grill\, your local hub for sports and entertainment \n\n\nTime: All day\, from opening until closing \n\n\n\nLassaw Bar & Grill is the ultimate destination for sports lovers and beer enthusiasts. Our “Make Mine a Pitcher” Tuesdays offer the perfect opportunity to unwind\, cheer for your favorite team\, and enjoy excellent company. Are you a casual fan or a die-hard supporter? Either way\, we’ve got great drinks and even better vibes. \nGather your friends\, grab a pitcher\, and make Tuesdays your favorite day of the week at Lassaw Bar & Grill. We can’t wait to see you there! \nCall 406-726-3778 for more details. \n\nAdditional Information\n\n\nFor more information about this promotion and other promotions and club member benefits\, call or visit our friendly Players Club team! \n\n\nExplore S&K Gaming\, LLC\n\n\nS&K Gaming\, LLC oversees three establishments on the Flathead Indian Reservation! Kwataqnuk Resort & Casino\, Big Arm Resort & Casino\, and Gray Wolf Peak Casino each have something different to offer everyone! From million-dollar views of the pristine Flathead Lake and the Mission Mountains\, dining\, club member benefits\, golf\, gas\, a banquet hall for various events\, and the largest casino in Montana\, S&K Gaming\, LLC has you covered. \n\n\nLearn More\n\n\nInterested in learning more about S&K Gaming\, LLC and our other locations? Visit our website at https://skgamingllc.com/.
URL:https://graywolfpeakcasino.com/event/make-mine-a-pitcher-8/
CATEGORIES:Lassaw Events,specials
ATTACH;FMTTYPE=image/jpeg:https://graywolfpeakcasino.com/wp-content/uploads/2026/03/GWP_Digital_April_Event_Calendar_1920x1080_2.jpg
END:VEVENT
BEGIN:VEVENT
DTSTART;TZID=America/Denver:20260526T100000
DTEND;TZID=America/Denver:20260527T020000
DTSTAMP:20260423T011347
CREATED:20260409T162029Z
LAST-MODIFIED:20260409T162029Z
UID:29689-1779789600-1779847200@graywolfpeakcasino.com
SUMMARY:Service Industry Nights at Lassaw
DESCRIPTION:Service Industry Nights at Lassaw\nCelebrate and unwind on Tuesdays starting in March with Service Industry Nights at Lassaw! Join us every Tuesday at Lassaw for our exclusive Service Industry Night\, dedicated to the hard-working individuals who keep the service and hospitality sector thriving. This special evening is designed to offer a well-deserved break and networking opportunities. \nExclusive Offers for Service Industry Professionals\n\n\n\n10% Off Total Bill: Enjoy a 10% discount on both food and beverages \n\n\nShot Specials: Take advantage of our shot specials crafted just for you \n\n\n\nUnwind\, Enjoy\, Network and Connect\nOur Service Industry Night is all about relaxation\, it’s the perfect setting to step away from your professional responsibilities and indulge. Meet fellow service industry professionals\, share experiences\, and make valuable connections. Relax and build a strong community among those who understand the demands of working in hospitality. \nImportant Information\n\n\n\nProof of Employment Required: Please display proof that you work in the service industry to participate in our exclusive offers. \n\n\nSee Lassaw Staff for More Information: Our friendly staff is available to provide any additional details or assistance you may need. \n\n\n\nJoin us for Service Industry Night at Lassaw\, where your hard work is celebrated every Tuesday starting in March. We look forward to welcoming you for a night of fun\, camaraderie\, and appreciation! \nCall 406-726-3778 for more details. \n\nAdditional Information\n\n\nFor more information about this promotion and other promotions and club member benefits\, call or visit our friendly Players Club team! \n\n\nExplore S&K Gaming\, LLC\n\n\nS&K Gaming\, LLC oversees three establishments on the Flathead Indian Reservation! Kwataqnuk Resort & Casino\, Big Arm Resort & Casino\, and Gray Wolf Peak Casino each have something different to offer everyone! From million-dollar views of the pristine Flathead Lake and the Mission Mountains\, dining\, club member benefits\, golf\, gas\, a banquet hall for various events\, and the largest casino in Montana\, S&K Gaming\, LLC has you covered. \n\n\nLearn More\n\n\nInterested in learning more about S&K Gaming\, LLC and our other locations? Visit our website at https://skgamingllc.com/.
URL:https://graywolfpeakcasino.com/event/service-industry-nights-at-lassaw-13/
CATEGORIES:Event,Lassaw Events,specials
ATTACH;FMTTYPE=image/jpeg:https://graywolfpeakcasino.com/wp-content/uploads/2026/02/serviceindustry-1920x1080-1.jpg
END:VEVENT
BEGIN:VEVENT
DTSTART;TZID=America/Denver:20260527T100000
DTEND;TZID=America/Denver:20260527T170000
DTSTAMP:20260423T011347
CREATED:20260414T202533Z
LAST-MODIFIED:20260414T202533Z
UID:29787-1779876000-1779901200@graywolfpeakcasino.com
SUMMARY:Pays to Play
DESCRIPTION:Pays to Play\nIt Pays to Play at Gray Wolf Peak Casino!\n\n\nIt Pays to Play at Gray Wolf Peak Casino\, especially on Wednesdays in May! Our “Pays to Play” promotion offers opportunities for players to maximize their gaming experience. Mark your calendars for Wednesdays from May 6 to May 27\, 2026\, between 10:00 am and 5:00 pm. Here’s how you can make the most of it. \n\n\nHow to Participate\n\n\nEvery Wednesday during the promotion\, players can earn $15 in Xtra Credit for every 500 points earned on their SKG Premier Rewards Club card. You can redeem this offer up to five times each promotional day right from your machine! This means more chances to win and more fun at Gray Wolf Peak Casino! \n\n\nRedeeming Your Rewards\n\n\nRedeeming your Xtra Credit is simple and convenient. Once you accumulate 500 points\, you have two options: redeem directly from your machine or head over to the Players Club. Remember\, you must redeem your Xtra Credit on the same Wednesday you earn the points\, and before 5:00 pm. The Xtra Credit remains valid for 24 hours after issuance\, so use it wisely! \n\n\nImportant Participation Guidelines\n\n\nEligibility: Ensure your players club card is properly inserted while playing a slot machine during the promotional hours to earn points.\nTiming: Only play within the promotional hours of 10:00 am to 5:00 pm to qualify.\nRedemption: Visit the Players Club or use the machine for redemption. Remember\, playing after 5:00 pm will not count towards the promotion.\n\n\nCome to Gray Wolf Peak Casino and see why it truly pays to play with us! \n\nAdditional Information\n\n\nFor more information about this promotion and other promotions and club member benefits\, call or visit our friendly Players Club team! \n\n\nExplore S&K Gaming\, LLC\n\n\nS&K Gaming\, LLC oversees three establishments on the Flathead Indian Reservation! Kwataqnuk Resort & Casino\, Big Arm Resort & Casino\, and Gray Wolf Peak Casino each have something different to offer everyone! From million-dollar views of the pristine Flathead Lake and the Mission Mountains\, dining\, club member benefits\, golf\, gas\, a banquet hall for various events\, and the largest casino in Montana\, S&K Gaming\, LLC has you covered. \n\n\nLearn More\n\n\nInterested in learning more about S&K Gaming\, LLC and our other locations? Visit our website at https://skgamingllc.com/.
URL:https://graywolfpeakcasino.com/event/pays-to-play-9/
CATEGORIES:Promotions
ATTACH;FMTTYPE=image/jpeg:https://graywolfpeakcasino.com/wp-content/uploads/2026/04/GWP_Digital_May_Promo2_1920x1080_2.jpg
END:VEVENT
END:VCALENDAR