BEGIN:VCALENDAR
VERSION:2.0
PRODID:-//Gray Wolf Peak Casino - ECPv6.15.20//NONSGML v1.0//EN
CALSCALE:GREGORIAN
METHOD:PUBLISH
X-ORIGINAL-URL:https://graywolfpeakcasino.com
X-WR-CALDESC:Events for Gray Wolf Peak Casino
REFRESH-INTERVAL;VALUE=DURATION:PT1H
X-Robots-Tag:noindex
X-PUBLISHED-TTL:PT1H
BEGIN:VTIMEZONE
TZID:America/Denver
BEGIN:DAYLIGHT
TZOFFSETFROM:-0700
TZOFFSETTO:-0600
TZNAME:MDT
DTSTART:20230312T090000
END:DAYLIGHT
BEGIN:STANDARD
TZOFFSETFROM:-0600
TZOFFSETTO:-0700
TZNAME:MST
DTSTART:20231105T080000
END:STANDARD
BEGIN:DAYLIGHT
TZOFFSETFROM:-0700
TZOFFSETTO:-0600
TZNAME:MDT
DTSTART:20240310T090000
END:DAYLIGHT
BEGIN:STANDARD
TZOFFSETFROM:-0600
TZOFFSETTO:-0700
TZNAME:MST
DTSTART:20241103T080000
END:STANDARD
BEGIN:DAYLIGHT
TZOFFSETFROM:-0700
TZOFFSETTO:-0600
TZNAME:MDT
DTSTART:20250309T090000
END:DAYLIGHT
BEGIN:STANDARD
TZOFFSETFROM:-0600
TZOFFSETTO:-0700
TZNAME:MST
DTSTART:20251102T080000
END:STANDARD
END:VTIMEZONE
BEGIN:VEVENT
DTSTART;TZID=America/Denver:20241004T160000
DTEND;TZID=America/Denver:20241004T220000
DTSTAMP:20260422T051550
CREATED:20240926T193607Z
LAST-MODIFIED:20240926T200032Z
UID:28519-1728057600-1728079200@graywolfpeakcasino.com
SUMMARY:Daring Dice
DESCRIPTION:Daring Dice\n\n\nRoll Your Way to Riches This October with Daring Dice! \n\n\nDo you feel lucky? This October\, Gray Wolf Peak Casino presents the thrilling $13k Daring Dice promotion. With cash and Xtra Credit prizes totaling $14\,500 up for grabs\, this is your chance to win big! The event takes place from Friday\, October 4th to Sunday\, October 27th\, with drawings every other hour from 4 PM to 10 PM on Fridays and Sundays. Don’t miss out on your opportunity to roll the dice and potentially walk away with up to $1\,000 in cash! \n\n\nDaring Dice Promo Details\n\n\nDates and Times of Promotion: \n\n\nStart/End Dates: Friday\, Oct. 4 – Sunday\, Oct. 27\nDrawing Times: Fridays and Sundays every other hour from 4 PM – 10 PM\nEarning Times: Open-close daily throughout the month\n\n\nWinner Count: 32 Winners Total \n\n\nCost of Promo: Cash $14\,500\, Xtra Credit $300 Avg. $484.38 \n\n\nDuration of Promo: 8 Drawing Days \n\n\nHow to Participate in Daring Dice\n\n\nDaring Dice Eligibility Requirements: \n\n\nActive Play Required: Must be actively playing a slot machine with a properly inserted Players Club card during promotional hours to earn entries.\nEntry Points: One drawing entry is earned for every 250 points accumulated.\nEntry Period: Earn entries from open to close daily throughout the month.\nDrawing Barrels: One entry will be drawn from the drawing barrel until a winner is confirmed.\n\n\nThe Thrill of the Roll\n\n\nWinning Choices: \n\n\nOnce your name is drawn\, you have a daring decision to make: walk away with $50 Xtra Credit or roll the dice for a chance at bigger prizes.\nRoll Outcomes:\n\n1-15 = $50 XC\n16-21 = $75 XC\n22 = $100 Cash\n23 = $300 Cash\n24 = $500 Cash\n25 = $1000 Cash\n\n\nIf your roll exceeds 25\, you still win $50 Xtra Credit.\n\n\nAdditional Information\n\n\nGame Rules: \n\n\nThe dice must be fully rolled by the participant; no setting of the dice is allowed.\nIf a player is unable to roll\, they may elect another guest to roll in their place.\nWinners must be present at Gray Wolf Peak Casino to claim their prize.\nThe drawing barrel will only be emptied after the evening’s final drawing.\n\n\nJoin us at Gray Wolf Peak Casino this October for the $13k Daring Dice promotion and take your chance at a life-changing roll. Are you ready to dare? \n\nAdditional Information\n\n\nFor more information about this promotion and other promotions and club member benefits\, call or visit our friendly Players Club team! \n\n\nExplore S&K Gaming\, LLC\n\n\nS&K Gaming\, LLC oversees three establishments on the Flathead Indian Reservation! Kwataqnuk Resort & Casino\, Big Arm Resort & Casino\, and Gray Wolf Peak Casino each have something different to offer everyone! From million-dollar views of the pristine Flathead Lake and the Mission Mountains\, dining\, club member benefits\, golf\, gas\, a banquet hall for various events\, and the largest casino in Montana\, S&K Gaming\, LLC has you covered. \n\n\nLearn More\n\n\nInterested in learning more about S&K Gaming\, LLC and our other locations? Visit our website at https://skgamingllc.com/.
URL:https://graywolfpeakcasino.com/event/daring-dice-kwataqnuk-promos/
CATEGORIES:Promotions
ATTACH;FMTTYPE=image/jpeg:https://graywolfpeakcasino.com/wp-content/uploads/2024/09/1024-GWP-DaringDiceNT-Web.jpg
END:VEVENT
BEGIN:VEVENT
DTSTART;TZID=America/Denver:20241006T160000
DTEND;TZID=America/Denver:20241006T220000
DTSTAMP:20260422T051550
CREATED:20240926T193828Z
LAST-MODIFIED:20240926T200002Z
UID:28522-1728230400-1728252000@graywolfpeakcasino.com
SUMMARY:Daring Dice
DESCRIPTION:Daring Dice\n\n\nRoll Your Way to Riches This October with Daring Dice! \n\n\nDo you feel lucky? This October\, Gray Wolf Peak Casino presents the thrilling $13k Daring Dice promotion. With cash and Xtra Credit prizes totaling $14\,500 up for grabs\, this is your chance to win big! The event takes place from Friday\, October 4th to Sunday\, October 27th\, with drawings every other hour from 4 PM to 10 PM on Fridays and Sundays. Don’t miss out on your opportunity to roll the dice and potentially walk away with up to $1\,000 in cash! \n\n\nDaring Dice Promo Details\n\n\nDates and Times of Promotion: \n\n\nStart/End Dates: Friday\, Oct. 4 – Sunday\, Oct. 27\nDrawing Times: Fridays and Sundays every other hour from 4 PM – 10 PM\nEarning Times: Open-close daily throughout the month\n\n\nWinner Count: 32 Winners Total \n\n\nCost of Promo: Cash $14\,500\, Xtra Credit $300 Avg. $484.38 \n\n\nDuration of Promo: 8 Drawing Days \n\n\nHow to Participate in Daring Dice\n\n\nDaring Dice Eligibility Requirements: \n\n\nActive Play Required: Must be actively playing a slot machine with a properly inserted Players Club card during promotional hours to earn entries.\nEntry Points: One drawing entry is earned for every 250 points accumulated.\nEntry Period: Earn entries from open to close daily throughout the month.\nDrawing Barrels: One entry will be drawn from the drawing barrel until a winner is confirmed.\n\n\nThe Thrill of the Roll\n\n\nWinning Choices: \n\n\nOnce your name is drawn\, you have a daring decision to make: walk away with $50 Xtra Credit or roll the dice for a chance at bigger prizes.\nRoll Outcomes:\n\n1-15 = $50 XC\n16-21 = $75 XC\n22 = $100 Cash\n23 = $300 Cash\n24 = $500 Cash\n25 = $1000 Cash\n\n\nIf your roll exceeds 25\, you still win $50 Xtra Credit.\n\n\nAdditional Information\n\n\nGame Rules: \n\n\nThe dice must be fully rolled by the participant; no setting of the dice is allowed.\nIf a player is unable to roll\, they may elect another guest to roll in their place.\nWinners must be present at Gray Wolf Peak Casino to claim their prize.\nThe drawing barrel will only be emptied after the evening’s final drawing.\n\n\nJoin us at Gray Wolf Peak Casino this October for the $13k Daring Dice promotion and take your chance at a life-changing roll. Are you ready to dare? \n\nAdditional Information\n\n\nFor more information about this promotion and other promotions and club member benefits\, call or visit our friendly Players Club team! \n\n\nExplore S&K Gaming\, LLC\n\n\nS&K Gaming\, LLC oversees three establishments on the Flathead Indian Reservation! Kwataqnuk Resort & Casino\, Big Arm Resort & Casino\, and Gray Wolf Peak Casino each have something different to offer everyone! From million-dollar views of the pristine Flathead Lake and the Mission Mountains\, dining\, club member benefits\, golf\, gas\, a banquet hall for various events\, and the largest casino in Montana\, S&K Gaming\, LLC has you covered. \n\n\nLearn More\n\n\nInterested in learning more about S&K Gaming\, LLC and our other locations? Visit our website at https://skgamingllc.com/.
URL:https://graywolfpeakcasino.com/event/daring-dice/
CATEGORIES:Promotions
ATTACH;FMTTYPE=image/jpeg:https://graywolfpeakcasino.com/wp-content/uploads/2024/09/1024-GWP-DaringDiceNT-Web.jpg
END:VEVENT
BEGIN:VEVENT
DTSTART;TZID=America/Denver:20241011T160000
DTEND;TZID=America/Denver:20241011T220000
DTSTAMP:20260422T051550
CREATED:20240926T193857Z
LAST-MODIFIED:20240926T195932Z
UID:28524-1728662400-1728684000@graywolfpeakcasino.com
SUMMARY:Daring Dice
DESCRIPTION:Daring Dice\n\n\nRoll Your Way to Riches This October with Daring Dice! \n\n\nDo you feel lucky? This October\, Gray Wolf Peak Casino presents the thrilling $13k Daring Dice promotion. With cash and Xtra Credit prizes totaling $14\,500 up for grabs\, this is your chance to win big! The event takes place from Friday\, October 4th to Sunday\, October 27th\, with drawings every other hour from 4 PM to 10 PM on Fridays and Sundays. Don’t miss out on your opportunity to roll the dice and potentially walk away with up to $1\,000 in cash! \n\n\nDaring Dice Promo Details\n\n\nDates and Times of Promotion: \n\n\nStart/End Dates: Friday\, Oct. 4 – Sunday\, Oct. 27\nDrawing Times: Fridays and Sundays every other hour from 4 PM – 10 PM\nEarning Times: Open-close daily throughout the month\n\n\nWinner Count: 32 Winners Total \n\n\nCost of Promo: Cash $14\,500\, Xtra Credit $300 Avg. $484.38 \n\n\nDuration of Promo: 8 Drawing Days \n\n\nHow to Participate in Daring Dice\n\n\nDaring Dice Eligibility Requirements: \n\n\nActive Play Required: Must be actively playing a slot machine with a properly inserted Players Club card during promotional hours to earn entries.\nEntry Points: One drawing entry is earned for every 250 points accumulated.\nEntry Period: Earn entries from open to close daily throughout the month.\nDrawing Barrels: One entry will be drawn from the drawing barrel until a winner is confirmed.\n\n\nThe Thrill of the Roll\n\n\nWinning Choices: \n\n\nOnce your name is drawn\, you have a daring decision to make: walk away with $50 Xtra Credit or roll the dice for a chance at bigger prizes.\nRoll Outcomes:\n\n1-15 = $50 XC\n16-21 = $75 XC\n22 = $100 Cash\n23 = $300 Cash\n24 = $500 Cash\n25 = $1000 Cash\n\n\nIf your roll exceeds 25\, you still win $50 Xtra Credit.\n\n\nAdditional Information\n\n\nGame Rules: \n\n\nThe dice must be fully rolled by the participant; no setting of the dice is allowed.\nIf a player is unable to roll\, they may elect another guest to roll in their place.\nWinners must be present at Gray Wolf Peak Casino to claim their prize.\nThe drawing barrel will only be emptied after the evening’s final drawing.\n\n\nJoin us at Gray Wolf Peak Casino this October for the $13k Daring Dice promotion and take your chance at a life-changing roll. Are you ready to dare? \n\nAdditional Information\n\n\nFor more information about this promotion and other promotions and club member benefits\, call or visit our friendly Players Club team! \n\n\nExplore S&K Gaming\, LLC\n\n\nS&K Gaming\, LLC oversees three establishments on the Flathead Indian Reservation! Kwataqnuk Resort & Casino\, Big Arm Resort & Casino\, and Gray Wolf Peak Casino each have something different to offer everyone! From million-dollar views of the pristine Flathead Lake and the Mission Mountains\, dining\, club member benefits\, golf\, gas\, a banquet hall for various events\, and the largest casino in Montana\, S&K Gaming\, LLC has you covered. \n\n\nLearn More\n\n\nInterested in learning more about S&K Gaming\, LLC and our other locations? Visit our website at https://skgamingllc.com/.
URL:https://graywolfpeakcasino.com/event/daring-dice-2/
CATEGORIES:Promotions
ATTACH;FMTTYPE=image/jpeg:https://graywolfpeakcasino.com/wp-content/uploads/2024/09/1024-GWP-DaringDiceNT-Web.jpg
END:VEVENT
BEGIN:VEVENT
DTSTART;TZID=America/Denver:20241013T160000
DTEND;TZID=America/Denver:20241013T220000
DTSTAMP:20260422T051550
CREATED:20240926T193926Z
LAST-MODIFIED:20240926T195905Z
UID:28526-1728835200-1728856800@graywolfpeakcasino.com
SUMMARY:Daring Dice
DESCRIPTION:Daring Dice\n\n\nRoll Your Way to Riches This October with Daring Dice! \n\n\nDo you feel lucky? This October\, Gray Wolf Peak Casino presents the thrilling $13k Daring Dice promotion. With cash and Xtra Credit prizes totaling $14\,500 up for grabs\, this is your chance to win big! The event takes place from Friday\, October 4th to Sunday\, October 27th\, with drawings every other hour from 4 PM to 10 PM on Fridays and Sundays. Don’t miss out on your opportunity to roll the dice and potentially walk away with up to $1\,000 in cash! \n\n\nDaring Dice Promo Details\n\n\nDates and Times of Promotion: \n\n\nStart/End Dates: Friday\, Oct. 4 – Sunday\, Oct. 27\nDrawing Times: Fridays and Sundays every other hour from 4 PM – 10 PM\nEarning Times: Open-close daily throughout the month\n\n\nWinner Count: 32 Winners Total \n\n\nCost of Promo: Cash $14\,500\, Xtra Credit $300 Avg. $484.38 \n\n\nDuration of Promo: 8 Drawing Days \n\n\nHow to Participate in Daring Dice\n\n\nDaring Dice Eligibility Requirements: \n\n\nActive Play Required: Must be actively playing a slot machine with a properly inserted Players Club card during promotional hours to earn entries.\nEntry Points: One drawing entry is earned for every 250 points accumulated.\nEntry Period: Earn entries from open to close daily throughout the month.\nDrawing Barrels: One entry will be drawn from the drawing barrel until a winner is confirmed.\n\n\nThe Thrill of the Roll\n\n\nWinning Choices: \n\n\nOnce your name is drawn\, you have a daring decision to make: walk away with $50 Xtra Credit or roll the dice for a chance at bigger prizes.\nRoll Outcomes:\n\n1-15 = $50 XC\n16-21 = $75 XC\n22 = $100 Cash\n23 = $300 Cash\n24 = $500 Cash\n25 = $1000 Cash\n\n\nIf your roll exceeds 25\, you still win $50 Xtra Credit.\n\n\nAdditional Information\n\n\nGame Rules: \n\n\nThe dice must be fully rolled by the participant; no setting of the dice is allowed.\nIf a player is unable to roll\, they may elect another guest to roll in their place.\nWinners must be present at Gray Wolf Peak Casino to claim their prize.\nThe drawing barrel will only be emptied after the evening’s final drawing.\n\n\nJoin us at Gray Wolf Peak Casino this October for the $13k Daring Dice promotion and take your chance at a life-changing roll. Are you ready to dare? \n\nAdditional Information\n\n\nFor more information about this promotion and other promotions and club member benefits\, call or visit our friendly Players Club team! \n\n\nExplore S&K Gaming\, LLC\n\n\nS&K Gaming\, LLC oversees three establishments on the Flathead Indian Reservation! Kwataqnuk Resort & Casino\, Big Arm Resort & Casino\, and Gray Wolf Peak Casino each have something different to offer everyone! From million-dollar views of the pristine Flathead Lake and the Mission Mountains\, dining\, club member benefits\, golf\, gas\, a banquet hall for various events\, and the largest casino in Montana\, S&K Gaming\, LLC has you covered. \n\n\nLearn More\n\n\nInterested in learning more about S&K Gaming\, LLC and our other locations? Visit our website at https://skgamingllc.com/.
URL:https://graywolfpeakcasino.com/event/daring-dice-3/
CATEGORIES:Promotions
ATTACH;FMTTYPE=image/jpeg:https://graywolfpeakcasino.com/wp-content/uploads/2024/09/1024-GWP-DaringDiceNT-Web.jpg
END:VEVENT
BEGIN:VEVENT
DTSTART;TZID=America/Denver:20241018T160000
DTEND;TZID=America/Denver:20241018T220000
DTSTAMP:20260422T051550
CREATED:20240926T194009Z
LAST-MODIFIED:20240926T195838Z
UID:28530-1729267200-1729288800@graywolfpeakcasino.com
SUMMARY:Daring Dice
DESCRIPTION:Daring Dice\n\n\nRoll Your Way to Riches This October with Daring Dice! \n\n\nDo you feel lucky? This October\, Gray Wolf Peak Casino presents the thrilling $13k Daring Dice promotion. With cash and Xtra Credit prizes totaling $14\,500 up for grabs\, this is your chance to win big! The event takes place from Friday\, October 4th to Sunday\, October 27th\, with drawings every other hour from 4 PM to 10 PM on Fridays and Sundays. Don’t miss out on your opportunity to roll the dice and potentially walk away with up to $1\,000 in cash! \n\n\nDaring Dice Promo Details\n\n\nDates and Times of Promotion: \n\n\nStart/End Dates: Friday\, Oct. 4 – Sunday\, Oct. 27\nDrawing Times: Fridays and Sundays every other hour from 4 PM – 10 PM\nEarning Times: Open-close daily throughout the month\n\n\nWinner Count: 32 Winners Total \n\n\nCost of Promo: Cash $14\,500\, Xtra Credit $300 Avg. $484.38 \n\n\nDuration of Promo: 8 Drawing Days \n\n\nHow to Participate in Daring Dice\n\n\nDaring Dice Eligibility Requirements: \n\n\nActive Play Required: Must be actively playing a slot machine with a properly inserted Players Club card during promotional hours to earn entries.\nEntry Points: One drawing entry is earned for every 250 points accumulated.\nEntry Period: Earn entries from open to close daily throughout the month.\nDrawing Barrels: One entry will be drawn from the drawing barrel until a winner is confirmed.\n\n\nThe Thrill of the Roll\n\n\nWinning Choices: \n\n\nOnce your name is drawn\, you have a daring decision to make: walk away with $50 Xtra Credit or roll the dice for a chance at bigger prizes.\nRoll Outcomes:\n\n1-15 = $50 XC\n16-21 = $75 XC\n22 = $100 Cash\n23 = $300 Cash\n24 = $500 Cash\n25 = $1000 Cash\n\n\nIf your roll exceeds 25\, you still win $50 Xtra Credit.\n\n\nAdditional Information\n\n\nGame Rules: \n\n\nThe dice must be fully rolled by the participant; no setting of the dice is allowed.\nIf a player is unable to roll\, they may elect another guest to roll in their place.\nWinners must be present at Gray Wolf Peak Casino to claim their prize.\nThe drawing barrel will only be emptied after the evening’s final drawing.\n\n\nJoin us at Gray Wolf Peak Casino this October for the $13k Daring Dice promotion and take your chance at a life-changing roll. Are you ready to dare? \n\nAdditional Information\n\n\nFor more information about this promotion and other promotions and club member benefits\, call or visit our friendly Players Club team! \n\n\nExplore S&K Gaming\, LLC\n\n\nS&K Gaming\, LLC oversees three establishments on the Flathead Indian Reservation! Kwataqnuk Resort & Casino\, Big Arm Resort & Casino\, and Gray Wolf Peak Casino each have something different to offer everyone! From million-dollar views of the pristine Flathead Lake and the Mission Mountains\, dining\, club member benefits\, golf\, gas\, a banquet hall for various events\, and the largest casino in Montana\, S&K Gaming\, LLC has you covered. \n\n\nLearn More\n\n\nInterested in learning more about S&K Gaming\, LLC and our other locations? Visit our website at https://skgamingllc.com/.
URL:https://graywolfpeakcasino.com/event/daring-dice-4/
CATEGORIES:Promotions
ATTACH;FMTTYPE=image/jpeg:https://graywolfpeakcasino.com/wp-content/uploads/2024/09/1024-GWP-DaringDiceNT-Web.jpg
END:VEVENT
BEGIN:VEVENT
DTSTART;TZID=America/Denver:20241020T160000
DTEND;TZID=America/Denver:20241020T220000
DTSTAMP:20260422T051550
CREATED:20240926T194031Z
LAST-MODIFIED:20240926T195813Z
UID:28532-1729440000-1729461600@graywolfpeakcasino.com
SUMMARY:Daring Dice
DESCRIPTION:Daring Dice\n\n\nRoll Your Way to Riches This October with Daring Dice! \n\n\nDo you feel lucky? This October\, Gray Wolf Peak Casino presents the thrilling $13k Daring Dice promotion. With cash and Xtra Credit prizes totaling $14\,500 up for grabs\, this is your chance to win big! The event takes place from Friday\, October 4th to Sunday\, October 27th\, with drawings every other hour from 4 PM to 10 PM on Fridays and Sundays. Don’t miss out on your opportunity to roll the dice and potentially walk away with up to $1\,000 in cash! \n\n\nDaring Dice Promo Details\n\n\nDates and Times of Promotion: \n\n\nStart/End Dates: Friday\, Oct. 4 – Sunday\, Oct. 27\nDrawing Times: Fridays and Sundays every other hour from 4 PM – 10 PM\nEarning Times: Open-close daily throughout the month\n\n\nWinner Count: 32 Winners Total \n\n\nCost of Promo: Cash $14\,500\, Xtra Credit $300 Avg. $484.38 \n\n\nDuration of Promo: 8 Drawing Days \n\n\nHow to Participate in Daring Dice\n\n\nDaring Dice Eligibility Requirements: \n\n\nActive Play Required: Must be actively playing a slot machine with a properly inserted Players Club card during promotional hours to earn entries.\nEntry Points: One drawing entry is earned for every 250 points accumulated.\nEntry Period: Earn entries from open to close daily throughout the month.\nDrawing Barrels: One entry will be drawn from the drawing barrel until a winner is confirmed.\n\n\nThe Thrill of the Roll\n\n\nWinning Choices: \n\n\nOnce your name is drawn\, you have a daring decision to make: walk away with $50 Xtra Credit or roll the dice for a chance at bigger prizes.\nRoll Outcomes:\n\n1-15 = $50 XC\n16-21 = $75 XC\n22 = $100 Cash\n23 = $300 Cash\n24 = $500 Cash\n25 = $1000 Cash\n\n\nIf your roll exceeds 25\, you still win $50 Xtra Credit.\n\n\nAdditional Information\n\n\nGame Rules: \n\n\nThe dice must be fully rolled by the participant; no setting of the dice is allowed.\nIf a player is unable to roll\, they may elect another guest to roll in their place.\nWinners must be present at Gray Wolf Peak Casino to claim their prize.\nThe drawing barrel will only be emptied after the evening’s final drawing.\n\n\nJoin us at Gray Wolf Peak Casino this October for the $13k Daring Dice promotion and take your chance at a life-changing roll. Are you ready to dare? \n\nAdditional Information\n\n\nFor more information about this promotion and other promotions and club member benefits\, call or visit our friendly Players Club team! \n\n\nExplore S&K Gaming\, LLC\n\n\nS&K Gaming\, LLC oversees three establishments on the Flathead Indian Reservation! Kwataqnuk Resort & Casino\, Big Arm Resort & Casino\, and Gray Wolf Peak Casino each have something different to offer everyone! From million-dollar views of the pristine Flathead Lake and the Mission Mountains\, dining\, club member benefits\, golf\, gas\, a banquet hall for various events\, and the largest casino in Montana\, S&K Gaming\, LLC has you covered. \n\n\nLearn More\n\n\nInterested in learning more about S&K Gaming\, LLC and our other locations? Visit our website at https://skgamingllc.com/.
URL:https://graywolfpeakcasino.com/event/daring-dice-5/
CATEGORIES:Promotions
ATTACH;FMTTYPE=image/jpeg:https://graywolfpeakcasino.com/wp-content/uploads/2024/09/1024-GWP-DaringDiceNT-Web.jpg
END:VEVENT
BEGIN:VEVENT
DTSTART;TZID=America/Denver:20241025T160000
DTEND;TZID=America/Denver:20241025T220000
DTSTAMP:20260422T051550
CREATED:20240926T194054Z
LAST-MODIFIED:20240926T195747Z
UID:28534-1729872000-1729893600@graywolfpeakcasino.com
SUMMARY:Daring Dice
DESCRIPTION:Daring Dice\n\n\nRoll Your Way to Riches This October with Daring Dice! \n\n\nDo you feel lucky? This October\, Gray Wolf Peak Casino presents the thrilling $13k Daring Dice promotion. With cash and Xtra Credit prizes totaling $14\,500 up for grabs\, this is your chance to win big! The event takes place from Friday\, October 4th to Sunday\, October 27th\, with drawings every other hour from 4 PM to 10 PM on Fridays and Sundays. Don’t miss out on your opportunity to roll the dice and potentially walk away with up to $1\,000 in cash! \n\n\nDaring Dice Promo Details\n\n\nDates and Times of Promotion: \n\n\nStart/End Dates: Friday\, Oct. 4 – Sunday\, Oct. 27\nDrawing Times: Fridays and Sundays every other hour from 4 PM – 10 PM\nEarning Times: Open-close daily throughout the month\n\n\nWinner Count: 32 Winners Total \n\n\nCost of Promo: Cash $14\,500\, Xtra Credit $300 Avg. $484.38 \n\n\nDuration of Promo: 8 Drawing Days \n\n\nHow to Participate in Daring Dice\n\n\nDaring Dice Eligibility Requirements: \n\n\nActive Play Required: Must be actively playing a slot machine with a properly inserted Players Club card during promotional hours to earn entries.\nEntry Points: One drawing entry is earned for every 250 points accumulated.\nEntry Period: Earn entries from open to close daily throughout the month.\nDrawing Barrels: One entry will be drawn from the drawing barrel until a winner is confirmed.\n\n\nThe Thrill of the Roll\n\n\nWinning Choices: \n\n\nOnce your name is drawn\, you have a daring decision to make: walk away with $50 Xtra Credit or roll the dice for a chance at bigger prizes.\nRoll Outcomes:\n\n1-15 = $50 XC\n16-21 = $75 XC\n22 = $100 Cash\n23 = $300 Cash\n24 = $500 Cash\n25 = $1000 Cash\n\n\nIf your roll exceeds 25\, you still win $50 Xtra Credit.\n\n\nAdditional Information\n\n\nGame Rules: \n\n\nThe dice must be fully rolled by the participant; no setting of the dice is allowed.\nIf a player is unable to roll\, they may elect another guest to roll in their place.\nWinners must be present at Gray Wolf Peak Casino to claim their prize.\nThe drawing barrel will only be emptied after the evening’s final drawing.\n\n\nJoin us at Gray Wolf Peak Casino this October for the $13k Daring Dice promotion and take your chance at a life-changing roll. Are you ready to dare? \n\nAdditional Information\n\n\nFor more information about this promotion and other promotions and club member benefits\, call or visit our friendly Players Club team! \n\n\nExplore S&K Gaming\, LLC\n\n\nS&K Gaming\, LLC oversees three establishments on the Flathead Indian Reservation! Kwataqnuk Resort & Casino\, Big Arm Resort & Casino\, and Gray Wolf Peak Casino each have something different to offer everyone! From million-dollar views of the pristine Flathead Lake and the Mission Mountains\, dining\, club member benefits\, golf\, gas\, a banquet hall for various events\, and the largest casino in Montana\, S&K Gaming\, LLC has you covered. \n\n\nLearn More\n\n\nInterested in learning more about S&K Gaming\, LLC and our other locations? Visit our website at https://skgamingllc.com/.
URL:https://graywolfpeakcasino.com/event/daring-dice-6/
CATEGORIES:Promotions
ATTACH;FMTTYPE=image/jpeg:https://graywolfpeakcasino.com/wp-content/uploads/2024/09/1024-GWP-DaringDiceNT-Web.jpg
END:VEVENT
BEGIN:VEVENT
DTSTART;TZID=America/Denver:20241027T160000
DTEND;TZID=America/Denver:20241027T220000
DTSTAMP:20260422T051550
CREATED:20240926T194114Z
LAST-MODIFIED:20240926T195722Z
UID:28536-1730044800-1730066400@graywolfpeakcasino.com
SUMMARY:Daring Dice
DESCRIPTION:Daring Dice\n\n\nRoll Your Way to Riches This October with Daring Dice! \n\n\nDo you feel lucky? This October\, Gray Wolf Peak Casino presents the thrilling $13k Daring Dice promotion. With cash and Xtra Credit prizes totaling $14\,500 up for grabs\, this is your chance to win big! The event takes place from Friday\, October 4th to Sunday\, October 27th\, with drawings every other hour from 4 PM to 10 PM on Fridays and Sundays. Don’t miss out on your opportunity to roll the dice and potentially walk away with up to $1\,000 in cash! \n\n\nDaring Dice Promo Details\n\n\nDates and Times of Promotion: \n\n\nStart/End Dates: Friday\, Oct. 4 – Sunday\, Oct. 27\nDrawing Times: Fridays and Sundays every other hour from 4 PM – 10 PM\nEarning Times: Open-close daily throughout the month\n\n\nWinner Count: 32 Winners Total \n\n\nCost of Promo: Cash $14\,500\, Xtra Credit $300 Avg. $484.38 \n\n\nDuration of Promo: 8 Drawing Days \n\n\nHow to Participate in Daring Dice\n\n\nDaring Dice Eligibility Requirements: \n\n\nActive Play Required: Must be actively playing a slot machine with a properly inserted Players Club card during promotional hours to earn entries.\nEntry Points: One drawing entry is earned for every 250 points accumulated.\nEntry Period: Earn entries from open to close daily throughout the month.\nDrawing Barrels: One entry will be drawn from the drawing barrel until a winner is confirmed.\n\n\nThe Thrill of the Roll\n\n\nWinning Choices: \n\n\nOnce your name is drawn\, you have a daring decision to make: walk away with $50 Xtra Credit or roll the dice for a chance at bigger prizes.\nRoll Outcomes:\n\n1-15 = $50 XC\n16-21 = $75 XC\n22 = $100 Cash\n23 = $300 Cash\n24 = $500 Cash\n25 = $1000 Cash\n\n\nIf your roll exceeds 25\, you still win $50 Xtra Credit.\n\n\nAdditional Information\n\n\nGame Rules: \n\n\nThe dice must be fully rolled by the participant; no setting of the dice is allowed.\nIf a player is unable to roll\, they may elect another guest to roll in their place.\nWinners must be present at Gray Wolf Peak Casino to claim their prize.\nThe drawing barrel will only be emptied after the evening’s final drawing.\n\n\nJoin us at Gray Wolf Peak Casino this October for the $13k Daring Dice promotion and take your chance at a life-changing roll. Are you ready to dare? \n\nAdditional Information\n\n\nFor more information about this promotion and other promotions and club member benefits\, call or visit our friendly Players Club team! \n\n\nExplore S&K Gaming\, LLC\n\n\nS&K Gaming\, LLC oversees three establishments on the Flathead Indian Reservation! Kwataqnuk Resort & Casino\, Big Arm Resort & Casino\, and Gray Wolf Peak Casino each have something different to offer everyone! From million-dollar views of the pristine Flathead Lake and the Mission Mountains\, dining\, club member benefits\, golf\, gas\, a banquet hall for various events\, and the largest casino in Montana\, S&K Gaming\, LLC has you covered. \n\n\nLearn More\n\n\nInterested in learning more about S&K Gaming\, LLC and our other locations? Visit our website at https://skgamingllc.com/.
URL:https://graywolfpeakcasino.com/event/daring-dice-7/
CATEGORIES:Promotions
ATTACH;FMTTYPE=image/jpeg:https://graywolfpeakcasino.com/wp-content/uploads/2024/09/1024-GWP-DaringDiceNT-Web.jpg
END:VEVENT
END:VCALENDAR