BEGIN:VCALENDAR
VERSION:2.0
PRODID:-//Gray Wolf Peak Casino - ECPv6.15.20//NONSGML v1.0//EN
CALSCALE:GREGORIAN
METHOD:PUBLISH
X-ORIGINAL-URL:https://graywolfpeakcasino.com
X-WR-CALDESC:Events for Gray Wolf Peak Casino
REFRESH-INTERVAL;VALUE=DURATION:PT1H
X-Robots-Tag:noindex
X-PUBLISHED-TTL:PT1H
BEGIN:VTIMEZONE
TZID:America/Denver
BEGIN:DAYLIGHT
TZOFFSETFROM:-0700
TZOFFSETTO:-0600
TZNAME:MDT
DTSTART:20240310T090000
END:DAYLIGHT
BEGIN:STANDARD
TZOFFSETFROM:-0600
TZOFFSETTO:-0700
TZNAME:MST
DTSTART:20241103T080000
END:STANDARD
BEGIN:DAYLIGHT
TZOFFSETFROM:-0700
TZOFFSETTO:-0600
TZNAME:MDT
DTSTART:20250309T090000
END:DAYLIGHT
BEGIN:STANDARD
TZOFFSETFROM:-0600
TZOFFSETTO:-0700
TZNAME:MST
DTSTART:20251102T080000
END:STANDARD
BEGIN:DAYLIGHT
TZOFFSETFROM:-0700
TZOFFSETTO:-0600
TZNAME:MDT
DTSTART:20260308T090000
END:DAYLIGHT
BEGIN:STANDARD
TZOFFSETFROM:-0600
TZOFFSETTO:-0700
TZNAME:MST
DTSTART:20261101T080000
END:STANDARD
END:VTIMEZONE
BEGIN:VEVENT
DTSTART;TZID=America/Denver:20250402T180000
DTEND;TZID=America/Denver:20250402T200000
DTSTAMP:20260420T054920
CREATED:20250320T220650Z
LAST-MODIFIED:20250320T220650Z
UID:28929-1743616800-1743624000@graywolfpeakcasino.com
SUMMARY:Mixed-Tape Music Bingo at Lassaw
DESCRIPTION:Mixed-Tape Music Bingo at Lassaw brings you some Mid-week FUN!\n\n\nJoin us for an exciting night of Mixed-Tape Music Bingo at Lassaw every Wednesday from 6 PM to 8 PM\, located inside the Gray Wolf Peak Casino. This isn’t your average bingo night; it’s a lively event infused with your favorite tunes\, promising endless fun and entertainment. \n\n\nWhat to Expect\n\n\nEvery week\, you can look forward to playing bingo in unique ways—whether it’s the easy way\, hard way\, or by completing the 4 corners. As you mark off your bingo cards\, enjoy grooving to a variety of playlists that keep the energy high. \n\n\nPrizes and Swag\n\n\nWinners won’t leave empty-handed. Swag and exciting prizes await those lucky enough to call out “Bingo!” So\, bring your A-game and get ready to compete! \n\n\nSupporting a Great Cause\n\n\nOur Mixtape Music Bingo isn’t just about fun—it’s about giving back. Each month\, we donate proceeds to a different charity\, this month 50% of all proceeds will benefit the Watson’s Children Shelter. Your participation makes a difference\, supporting those in need while you enjoy a memorable night. \n\n\nJoin Us\n\n\nDon’t miss out on this incredible charity event. Gather your friends\, family\, or come solo—everyone is welcome! Head to Lassaw at Gray Wolf Peak Casino this Wednesday. With great music\, good company\, and the chance to support a worthy cause\, Mixtape Music Bingo is the ultimate way to spend your evening. See you there! \n\n\nAdditional Information\nFor more information about this event\, and other events or promotions or club member benefits\, call or visit our friendly Players Club team! \nExplore S&K Gaming\, LLC\nS&K Gaming\, LLC oversees three establishments on the Flathead Indian Reservation! Kwataqnuk Resort & Casino\, Big Arm Resort & Casino\, and Gray Wolf Peak Casino each have something different to offer everyone! From million-dollar views of the pristine Flathead Lake and the Mission Mountains\, dining\, club member benefits\, golf\, gas\, a banquet hall for various events\, and the largest casino in Montana\, S&K Gaming\, LLC has you covered. \nLearn More\nInterested in learning more about S&K Gaming\, LLC and our other locations? Visit our website at https://skgamingllc.com/.
URL:https://graywolfpeakcasino.com/event/mixed-tape-music-bingo-at-lassaw-2/
CATEGORIES:Bingo,Event,Lassaw Events
ATTACH;FMTTYPE=image/jpeg:https://graywolfpeakcasino.com/wp-content/uploads/2025/02/Music-Bingo-at-Lassaw.jpg
END:VEVENT
BEGIN:VEVENT
DTSTART;TZID=America/Denver:20250408T180000
DTEND;TZID=America/Denver:20250408T200000
DTSTAMP:20260420T054920
CREATED:20250403T214521Z
LAST-MODIFIED:20250403T214521Z
UID:28962-1744135200-1744142400@graywolfpeakcasino.com
SUMMARY:Trivia Night at Lassaw
DESCRIPTION:Trivia Night at Lassaw Restaurant\n\n\nJoin us for Trivia Night at Lassaw Restaurant\, hosted by Gray Wolf Peak Casino! Every Tuesday from 6 PM to 8 PM\, challenge your knowledge and compete for fantastic prizes. Located at 20750 US-93\, U.S. 93\, Missoula\, MT\, Lassaw Restaurant is your favorite local sports bar\, and now we offer Trivia Night!. \n\n\nWhy You Should Attend\n\n\nGet ready to test your trivia skills and enjoy an evening with friends. Discover drink specials that will keep the good times flowing as you dive into a variety of trivia topics. Are you a trivia novice or a seasoned pro? Come show us what you’ve got! \n\n\nEvent Highlights\n\n\nDate and Time: Every Tuesday\, 6 PM – 8 PM\nLocation: Lassaw Restaurant\, 20750 US-93\, U.S. 93\, Missoula\, MT\nExciting Prizes: Stand a chance to win great rewards\nDrink Specials: Enjoy exclusive offers on your favorite drinks\n\n\nMark your calendar\, gather your team\, and show us what you know at Trivia Night! \nAdditional Information\nFor more information about this event\, promotions and club member benefits\, call or visit our friendly Players Club team! \nExplore S&K Gaming\, LLC\nS&K Gaming\, LLC oversees three establishments on the Flathead Indian Reservation! Kwataqnuk Resort & Casino\, Big Arm Resort & Casino\, and Gray Wolf Peak Casino each have something different to offer everyone! From million-dollar views of the pristine Flathead Lake and the Mission Mountains\, dining\, club member benefits\, golf\, gas\, a banquet hall for various events\, and the largest casino in Montana\, S&K Gaming\, LLC has you covered. \nLearn More\nInterested in learning more about S&K Gaming\, LLC and our other locations? Visit our website at https://skgamingllc.com/.
URL:https://graywolfpeakcasino.com/event/trivia-night-at-lassaw/
CATEGORIES:Lassaw Events
ATTACH;FMTTYPE=image/jpeg:https://graywolfpeakcasino.com/wp-content/uploads/2025/02/Trivia-Night-at-Lassaw.jpg
END:VEVENT
BEGIN:VEVENT
DTSTART;TZID=America/Denver:20250409T180000
DTEND;TZID=America/Denver:20250409T200000
DTSTAMP:20260420T054920
CREATED:20250320T220745Z
LAST-MODIFIED:20250320T220745Z
UID:28931-1744221600-1744228800@graywolfpeakcasino.com
SUMMARY:Mixed-Tape Music Bingo at Lassaw
DESCRIPTION:Mixed-Tape Music Bingo at Lassaw brings you some Mid-week FUN!\n\n\nJoin us for an exciting night of Mixed-Tape Music Bingo at Lassaw every Wednesday from 6 PM to 8 PM\, located inside the Gray Wolf Peak Casino. This isn’t your average bingo night; it’s a lively event infused with your favorite tunes\, promising endless fun and entertainment. \n\n\nWhat to Expect\n\n\nEvery week\, you can look forward to playing bingo in unique ways—whether it’s the easy way\, hard way\, or by completing the 4 corners. As you mark off your bingo cards\, enjoy grooving to a variety of playlists that keep the energy high. \n\n\nPrizes and Swag\n\n\nWinners won’t leave empty-handed. Swag and exciting prizes await those lucky enough to call out “Bingo!” So\, bring your A-game and get ready to compete! \n\n\nSupporting a Great Cause\n\n\nOur Mixtape Music Bingo isn’t just about fun—it’s about giving back. Each month\, we donate proceeds to a different charity\, this month 50% of all proceeds will benefit the Watson’s Children Shelter. Your participation makes a difference\, supporting those in need while you enjoy a memorable night. \n\n\nJoin Us\n\n\nDon’t miss out on this incredible charity event. Gather your friends\, family\, or come solo—everyone is welcome! Head to Lassaw at Gray Wolf Peak Casino this Wednesday. With great music\, good company\, and the chance to support a worthy cause\, Mixtape Music Bingo is the ultimate way to spend your evening. See you there! \n\n\nAdditional Information\nFor more information about this event\, and other events or promotions or club member benefits\, call or visit our friendly Players Club team! \nExplore S&K Gaming\, LLC\nS&K Gaming\, LLC oversees three establishments on the Flathead Indian Reservation! Kwataqnuk Resort & Casino\, Big Arm Resort & Casino\, and Gray Wolf Peak Casino each have something different to offer everyone! From million-dollar views of the pristine Flathead Lake and the Mission Mountains\, dining\, club member benefits\, golf\, gas\, a banquet hall for various events\, and the largest casino in Montana\, S&K Gaming\, LLC has you covered. \nLearn More\nInterested in learning more about S&K Gaming\, LLC and our other locations? Visit our website at https://skgamingllc.com/.
URL:https://graywolfpeakcasino.com/event/mixed-tape-music-bingo-at-lassaw-3/
CATEGORIES:Bingo,Event,Lassaw Events
ATTACH;FMTTYPE=image/jpeg:https://graywolfpeakcasino.com/wp-content/uploads/2025/02/Music-Bingo-at-Lassaw.jpg
END:VEVENT
BEGIN:VEVENT
DTSTART;TZID=America/Denver:20250415T180000
DTEND;TZID=America/Denver:20250415T200000
DTSTAMP:20260420T054920
CREATED:20250403T214557Z
LAST-MODIFIED:20250403T214557Z
UID:28964-1744740000-1744747200@graywolfpeakcasino.com
SUMMARY:Trivia Night at Lassaw
DESCRIPTION:Trivia Night at Lassaw Restaurant\n\n\nJoin us for Trivia Night at Lassaw Restaurant\, hosted by Gray Wolf Peak Casino! Every Tuesday from 6 PM to 8 PM\, challenge your knowledge and compete for fantastic prizes. Located at 20750 US-93\, U.S. 93\, Missoula\, MT\, Lassaw Restaurant is your favorite local sports bar\, and now we offer Trivia Night!. \n\n\nWhy You Should Attend\n\n\nGet ready to test your trivia skills and enjoy an evening with friends. Discover drink specials that will keep the good times flowing as you dive into a variety of trivia topics. Are you a trivia novice or a seasoned pro? Come show us what you’ve got! \n\n\nEvent Highlights\n\n\nDate and Time: Every Tuesday\, 6 PM – 8 PM\nLocation: Lassaw Restaurant\, 20750 US-93\, U.S. 93\, Missoula\, MT\nExciting Prizes: Stand a chance to win great rewards\nDrink Specials: Enjoy exclusive offers on your favorite drinks\n\n\nMark your calendar\, gather your team\, and show us what you know at Trivia Night! \nAdditional Information\nFor more information about this event\, promotions and club member benefits\, call or visit our friendly Players Club team! \nExplore S&K Gaming\, LLC\nS&K Gaming\, LLC oversees three establishments on the Flathead Indian Reservation! Kwataqnuk Resort & Casino\, Big Arm Resort & Casino\, and Gray Wolf Peak Casino each have something different to offer everyone! From million-dollar views of the pristine Flathead Lake and the Mission Mountains\, dining\, club member benefits\, golf\, gas\, a banquet hall for various events\, and the largest casino in Montana\, S&K Gaming\, LLC has you covered. \nLearn More\nInterested in learning more about S&K Gaming\, LLC and our other locations? Visit our website at https://skgamingllc.com/.
URL:https://graywolfpeakcasino.com/event/trivia-night-at-lassaw-2/
CATEGORIES:Lassaw Events
ATTACH;FMTTYPE=image/jpeg:https://graywolfpeakcasino.com/wp-content/uploads/2025/02/Trivia-Night-at-Lassaw.jpg
END:VEVENT
BEGIN:VEVENT
DTSTART;TZID=America/Denver:20250416T180000
DTEND;TZID=America/Denver:20250416T200000
DTSTAMP:20260420T054920
CREATED:20250320T220830Z
LAST-MODIFIED:20250320T220830Z
UID:28933-1744826400-1744833600@graywolfpeakcasino.com
SUMMARY:Mixed-Tape Music Bingo at Lassaw
DESCRIPTION:Mixed-Tape Music Bingo at Lassaw brings you some Mid-week FUN!\n\n\nJoin us for an exciting night of Mixed-Tape Music Bingo at Lassaw every Wednesday from 6 PM to 8 PM\, located inside the Gray Wolf Peak Casino. This isn’t your average bingo night; it’s a lively event infused with your favorite tunes\, promising endless fun and entertainment. \n\n\nWhat to Expect\n\n\nEvery week\, you can look forward to playing bingo in unique ways—whether it’s the easy way\, hard way\, or by completing the 4 corners. As you mark off your bingo cards\, enjoy grooving to a variety of playlists that keep the energy high. \n\n\nPrizes and Swag\n\n\nWinners won’t leave empty-handed. Swag and exciting prizes await those lucky enough to call out “Bingo!” So\, bring your A-game and get ready to compete! \n\n\nSupporting a Great Cause\n\n\nOur Mixtape Music Bingo isn’t just about fun—it’s about giving back. Each month\, we donate proceeds to a different charity\, this month 50% of all proceeds will benefit the Watson’s Children Shelter. Your participation makes a difference\, supporting those in need while you enjoy a memorable night. \n\n\nJoin Us\n\n\nDon’t miss out on this incredible charity event. Gather your friends\, family\, or come solo—everyone is welcome! Head to Lassaw at Gray Wolf Peak Casino this Wednesday. With great music\, good company\, and the chance to support a worthy cause\, Mixtape Music Bingo is the ultimate way to spend your evening. See you there! \n\n\nAdditional Information\nFor more information about this event\, and other events or promotions or club member benefits\, call or visit our friendly Players Club team! \nExplore S&K Gaming\, LLC\nS&K Gaming\, LLC oversees three establishments on the Flathead Indian Reservation! Kwataqnuk Resort & Casino\, Big Arm Resort & Casino\, and Gray Wolf Peak Casino each have something different to offer everyone! From million-dollar views of the pristine Flathead Lake and the Mission Mountains\, dining\, club member benefits\, golf\, gas\, a banquet hall for various events\, and the largest casino in Montana\, S&K Gaming\, LLC has you covered. \nLearn More\nInterested in learning more about S&K Gaming\, LLC and our other locations? Visit our website at https://skgamingllc.com/.
URL:https://graywolfpeakcasino.com/event/mixed-tape-music-bingo-at-lassaw-4/
CATEGORIES:Bingo,Event,Lassaw Events
ATTACH;FMTTYPE=image/jpeg:https://graywolfpeakcasino.com/wp-content/uploads/2025/02/Music-Bingo-at-Lassaw.jpg
END:VEVENT
BEGIN:VEVENT
DTSTART;TZID=America/Denver:20250422T180000
DTEND;TZID=America/Denver:20250422T200000
DTSTAMP:20260420T054920
CREATED:20250403T214622Z
LAST-MODIFIED:20250403T214622Z
UID:28966-1745344800-1745352000@graywolfpeakcasino.com
SUMMARY:Trivia Night at Lassaw
DESCRIPTION:Trivia Night at Lassaw Restaurant\n\n\nJoin us for Trivia Night at Lassaw Restaurant\, hosted by Gray Wolf Peak Casino! Every Tuesday from 6 PM to 8 PM\, challenge your knowledge and compete for fantastic prizes. Located at 20750 US-93\, U.S. 93\, Missoula\, MT\, Lassaw Restaurant is your favorite local sports bar\, and now we offer Trivia Night!. \n\n\nWhy You Should Attend\n\n\nGet ready to test your trivia skills and enjoy an evening with friends. Discover drink specials that will keep the good times flowing as you dive into a variety of trivia topics. Are you a trivia novice or a seasoned pro? Come show us what you’ve got! \n\n\nEvent Highlights\n\n\nDate and Time: Every Tuesday\, 6 PM – 8 PM\nLocation: Lassaw Restaurant\, 20750 US-93\, U.S. 93\, Missoula\, MT\nExciting Prizes: Stand a chance to win great rewards\nDrink Specials: Enjoy exclusive offers on your favorite drinks\n\n\nMark your calendar\, gather your team\, and show us what you know at Trivia Night! \nAdditional Information\nFor more information about this event\, promotions and club member benefits\, call or visit our friendly Players Club team! \nExplore S&K Gaming\, LLC\nS&K Gaming\, LLC oversees three establishments on the Flathead Indian Reservation! Kwataqnuk Resort & Casino\, Big Arm Resort & Casino\, and Gray Wolf Peak Casino each have something different to offer everyone! From million-dollar views of the pristine Flathead Lake and the Mission Mountains\, dining\, club member benefits\, golf\, gas\, a banquet hall for various events\, and the largest casino in Montana\, S&K Gaming\, LLC has you covered. \nLearn More\nInterested in learning more about S&K Gaming\, LLC and our other locations? Visit our website at https://skgamingllc.com/.
URL:https://graywolfpeakcasino.com/event/trivia-night-at-lassaw-3/
CATEGORIES:Lassaw Events
ATTACH;FMTTYPE=image/jpeg:https://graywolfpeakcasino.com/wp-content/uploads/2025/02/Trivia-Night-at-Lassaw.jpg
END:VEVENT
BEGIN:VEVENT
DTSTART;TZID=America/Denver:20250423T180000
DTEND;TZID=America/Denver:20250423T200000
DTSTAMP:20260420T054920
CREATED:20250320T220908Z
LAST-MODIFIED:20250320T220908Z
UID:28935-1745431200-1745438400@graywolfpeakcasino.com
SUMMARY:Mixed-Tape Music Bingo at Lassaw
DESCRIPTION:Mixed-Tape Music Bingo at Lassaw brings you some Mid-week FUN!\n\n\nJoin us for an exciting night of Mixed-Tape Music Bingo at Lassaw every Wednesday from 6 PM to 8 PM\, located inside the Gray Wolf Peak Casino. This isn’t your average bingo night; it’s a lively event infused with your favorite tunes\, promising endless fun and entertainment. \n\n\nWhat to Expect\n\n\nEvery week\, you can look forward to playing bingo in unique ways—whether it’s the easy way\, hard way\, or by completing the 4 corners. As you mark off your bingo cards\, enjoy grooving to a variety of playlists that keep the energy high. \n\n\nPrizes and Swag\n\n\nWinners won’t leave empty-handed. Swag and exciting prizes await those lucky enough to call out “Bingo!” So\, bring your A-game and get ready to compete! \n\n\nSupporting a Great Cause\n\n\nOur Mixtape Music Bingo isn’t just about fun—it’s about giving back. Each month\, we donate proceeds to a different charity\, this month 50% of all proceeds will benefit the Watson’s Children Shelter. Your participation makes a difference\, supporting those in need while you enjoy a memorable night. \n\n\nJoin Us\n\n\nDon’t miss out on this incredible charity event. Gather your friends\, family\, or come solo—everyone is welcome! Head to Lassaw at Gray Wolf Peak Casino this Wednesday. With great music\, good company\, and the chance to support a worthy cause\, Mixtape Music Bingo is the ultimate way to spend your evening. See you there! \n\n\nAdditional Information\nFor more information about this event\, and other events or promotions or club member benefits\, call or visit our friendly Players Club team! \nExplore S&K Gaming\, LLC\nS&K Gaming\, LLC oversees three establishments on the Flathead Indian Reservation! Kwataqnuk Resort & Casino\, Big Arm Resort & Casino\, and Gray Wolf Peak Casino each have something different to offer everyone! From million-dollar views of the pristine Flathead Lake and the Mission Mountains\, dining\, club member benefits\, golf\, gas\, a banquet hall for various events\, and the largest casino in Montana\, S&K Gaming\, LLC has you covered. \nLearn More\nInterested in learning more about S&K Gaming\, LLC and our other locations? Visit our website at https://skgamingllc.com/.
URL:https://graywolfpeakcasino.com/event/mixed-tape-music-bingo-at-lassaw-5/
CATEGORIES:Bingo,Event,Lassaw Events
ATTACH;FMTTYPE=image/jpeg:https://graywolfpeakcasino.com/wp-content/uploads/2025/02/Music-Bingo-at-Lassaw.jpg
END:VEVENT
BEGIN:VEVENT
DTSTART;TZID=America/Denver:20250429T180000
DTEND;TZID=America/Denver:20250429T200000
DTSTAMP:20260420T054920
CREATED:20250403T214643Z
LAST-MODIFIED:20250403T214643Z
UID:28968-1745949600-1745956800@graywolfpeakcasino.com
SUMMARY:Trivia Night at Lassaw
DESCRIPTION:Trivia Night at Lassaw Restaurant\n\n\nJoin us for Trivia Night at Lassaw Restaurant\, hosted by Gray Wolf Peak Casino! Every Tuesday from 6 PM to 8 PM\, challenge your knowledge and compete for fantastic prizes. Located at 20750 US-93\, U.S. 93\, Missoula\, MT\, Lassaw Restaurant is your favorite local sports bar\, and now we offer Trivia Night!. \n\n\nWhy You Should Attend\n\n\nGet ready to test your trivia skills and enjoy an evening with friends. Discover drink specials that will keep the good times flowing as you dive into a variety of trivia topics. Are you a trivia novice or a seasoned pro? Come show us what you’ve got! \n\n\nEvent Highlights\n\n\nDate and Time: Every Tuesday\, 6 PM – 8 PM\nLocation: Lassaw Restaurant\, 20750 US-93\, U.S. 93\, Missoula\, MT\nExciting Prizes: Stand a chance to win great rewards\nDrink Specials: Enjoy exclusive offers on your favorite drinks\n\n\nMark your calendar\, gather your team\, and show us what you know at Trivia Night! \nAdditional Information\nFor more information about this event\, promotions and club member benefits\, call or visit our friendly Players Club team! \nExplore S&K Gaming\, LLC\nS&K Gaming\, LLC oversees three establishments on the Flathead Indian Reservation! Kwataqnuk Resort & Casino\, Big Arm Resort & Casino\, and Gray Wolf Peak Casino each have something different to offer everyone! From million-dollar views of the pristine Flathead Lake and the Mission Mountains\, dining\, club member benefits\, golf\, gas\, a banquet hall for various events\, and the largest casino in Montana\, S&K Gaming\, LLC has you covered. \nLearn More\nInterested in learning more about S&K Gaming\, LLC and our other locations? Visit our website at https://skgamingllc.com/.
URL:https://graywolfpeakcasino.com/event/trivia-night-at-lassaw-4/
CATEGORIES:Lassaw Events
ATTACH;FMTTYPE=image/jpeg:https://graywolfpeakcasino.com/wp-content/uploads/2025/02/Trivia-Night-at-Lassaw.jpg
END:VEVENT
BEGIN:VEVENT
DTSTART;TZID=America/Denver:20250430T180000
DTEND;TZID=America/Denver:20250430T200000
DTSTAMP:20260420T054920
CREATED:20250320T220937Z
LAST-MODIFIED:20250320T220937Z
UID:28937-1746036000-1746043200@graywolfpeakcasino.com
SUMMARY:Mixed-Tape Music Bingo at Lassaw
DESCRIPTION:Mixed-Tape Music Bingo at Lassaw brings you some Mid-week FUN!\n\n\nJoin us for an exciting night of Mixed-Tape Music Bingo at Lassaw every Wednesday from 6 PM to 8 PM\, located inside the Gray Wolf Peak Casino. This isn’t your average bingo night; it’s a lively event infused with your favorite tunes\, promising endless fun and entertainment. \n\n\nWhat to Expect\n\n\nEvery week\, you can look forward to playing bingo in unique ways—whether it’s the easy way\, hard way\, or by completing the 4 corners. As you mark off your bingo cards\, enjoy grooving to a variety of playlists that keep the energy high. \n\n\nPrizes and Swag\n\n\nWinners won’t leave empty-handed. Swag and exciting prizes await those lucky enough to call out “Bingo!” So\, bring your A-game and get ready to compete! \n\n\nSupporting a Great Cause\n\n\nOur Mixtape Music Bingo isn’t just about fun—it’s about giving back. Each month\, we donate proceeds to a different charity\, this month 50% of all proceeds will benefit the Watson’s Children Shelter. Your participation makes a difference\, supporting those in need while you enjoy a memorable night. \n\n\nJoin Us\n\n\nDon’t miss out on this incredible charity event. Gather your friends\, family\, or come solo—everyone is welcome! Head to Lassaw at Gray Wolf Peak Casino this Wednesday. With great music\, good company\, and the chance to support a worthy cause\, Mixtape Music Bingo is the ultimate way to spend your evening. See you there! \n\n\nAdditional Information\nFor more information about this event\, and other events or promotions or club member benefits\, call or visit our friendly Players Club team! \nExplore S&K Gaming\, LLC\nS&K Gaming\, LLC oversees three establishments on the Flathead Indian Reservation! Kwataqnuk Resort & Casino\, Big Arm Resort & Casino\, and Gray Wolf Peak Casino each have something different to offer everyone! From million-dollar views of the pristine Flathead Lake and the Mission Mountains\, dining\, club member benefits\, golf\, gas\, a banquet hall for various events\, and the largest casino in Montana\, S&K Gaming\, LLC has you covered. \nLearn More\nInterested in learning more about S&K Gaming\, LLC and our other locations? Visit our website at https://skgamingllc.com/.
URL:https://graywolfpeakcasino.com/event/mixed-tape-music-bingo-at-lassaw-6/
CATEGORIES:Bingo,Event,Lassaw Events
ATTACH;FMTTYPE=image/jpeg:https://graywolfpeakcasino.com/wp-content/uploads/2025/02/Music-Bingo-at-Lassaw.jpg
END:VEVENT
END:VCALENDAR