BEGIN:VCALENDAR
VERSION:2.0
PRODID:-//Gray Wolf Peak Casino - ECPv6.15.20//NONSGML v1.0//EN
CALSCALE:GREGORIAN
METHOD:PUBLISH
X-ORIGINAL-URL:https://graywolfpeakcasino.com
X-WR-CALDESC:Events for Gray Wolf Peak Casino
REFRESH-INTERVAL;VALUE=DURATION:PT1H
X-Robots-Tag:noindex
X-PUBLISHED-TTL:PT1H
BEGIN:VTIMEZONE
TZID:America/Denver
BEGIN:DAYLIGHT
TZOFFSETFROM:-0700
TZOFFSETTO:-0600
TZNAME:MDT
DTSTART:20230312T090000
END:DAYLIGHT
BEGIN:STANDARD
TZOFFSETFROM:-0600
TZOFFSETTO:-0700
TZNAME:MST
DTSTART:20231105T080000
END:STANDARD
BEGIN:DAYLIGHT
TZOFFSETFROM:-0700
TZOFFSETTO:-0600
TZNAME:MDT
DTSTART:20240310T090000
END:DAYLIGHT
BEGIN:STANDARD
TZOFFSETFROM:-0600
TZOFFSETTO:-0700
TZNAME:MST
DTSTART:20241103T080000
END:STANDARD
BEGIN:DAYLIGHT
TZOFFSETFROM:-0700
TZOFFSETTO:-0600
TZNAME:MDT
DTSTART:20250309T090000
END:DAYLIGHT
BEGIN:STANDARD
TZOFFSETFROM:-0600
TZOFFSETTO:-0700
TZNAME:MST
DTSTART:20251102T080000
END:STANDARD
END:VTIMEZONE
BEGIN:VEVENT
DTSTART;TZID=America/Denver:20240713T100000
DTEND;TZID=America/Denver:20240713T220000
DTSTAMP:20260420T233223
CREATED:20240625T145038Z
LAST-MODIFIED:20240712T172009Z
UID:28343-1720864800-1720908000@graywolfpeakcasino.com
SUMMARY:Outdoor BBQ
DESCRIPTION:Outdoor BBQ\nJoin us outside on the patio of Lassaw Sports Bar\, (located inside of Gray Wolf Peak Casino) on July 13th from 10 AM to 10 PM for an outdoor BBQ and yard games like Giant Jenga\, Cornhole\, Bocce Ball and more! \nWe will offer an “All-You-Can-Eat/Drink” wristband for $125. The wristband will be valid from 10 am until 10 pm and includes brunch\, regular menu\, bbq\, draft beer\, and well liquor. \n\nAll food/drink must be consumed on property.\nItems cannot be shared between patrons. If such activity is observed\, it will void the wristband.\nWe reserve the right to refuse service.\nCertain menu items may be excluded.\n\nHere are the items that we will be serving at the BBQ on 13 July: \nMain Dishes *All Included with Fries: \n\nHamburger: $14 (choice of cheese\, lettuce\, tomato)\nBrisket: $15\nBurnt Ends: $12\nRegular Hot Dog: $8\nPulled Pork: $12\nRibs: $10\n\nSides: \n\nPotato Salad: $5\nMacaroni Salad: $5\nFruit Salad: $4\nElote: $8\n\nDessert: \n\nFREE ice cream with optional toppings (chocolate syrup\, walnuts\, cashews\, cherries). One per guest. *No Combos.\n\n 
URL:https://graywolfpeakcasino.com/event/outdoor-bbq/
CATEGORIES:Event,Food,party
END:VEVENT
END:VCALENDAR