BEGIN:VCALENDAR
VERSION:2.0
PRODID:-//Gray Wolf Peak Casino - ECPv6.15.20//NONSGML v1.0//EN
CALSCALE:GREGORIAN
METHOD:PUBLISH
X-WR-CALNAME:Gray Wolf Peak Casino
X-ORIGINAL-URL:https://graywolfpeakcasino.com
X-WR-CALDESC:Events for Gray Wolf Peak Casino
REFRESH-INTERVAL;VALUE=DURATION:PT1H
X-Robots-Tag:noindex
X-PUBLISHED-TTL:PT1H
BEGIN:VTIMEZONE
TZID:America/Denver
BEGIN:DAYLIGHT
TZOFFSETFROM:-0700
TZOFFSETTO:-0600
TZNAME:MDT
DTSTART:20240310T090000
END:DAYLIGHT
BEGIN:STANDARD
TZOFFSETFROM:-0600
TZOFFSETTO:-0700
TZNAME:MST
DTSTART:20241103T080000
END:STANDARD
BEGIN:DAYLIGHT
TZOFFSETFROM:-0700
TZOFFSETTO:-0600
TZNAME:MDT
DTSTART:20250309T090000
END:DAYLIGHT
BEGIN:STANDARD
TZOFFSETFROM:-0600
TZOFFSETTO:-0700
TZNAME:MST
DTSTART:20251102T080000
END:STANDARD
BEGIN:DAYLIGHT
TZOFFSETFROM:-0700
TZOFFSETTO:-0600
TZNAME:MDT
DTSTART:20260308T090000
END:DAYLIGHT
BEGIN:STANDARD
TZOFFSETFROM:-0600
TZOFFSETTO:-0700
TZNAME:MST
DTSTART:20261101T080000
END:STANDARD
END:VTIMEZONE
BEGIN:VEVENT
DTSTART;TZID=America/Denver:20250214T170000
DTEND;TZID=America/Denver:20250214T200000
DTSTAMP:20260420T120601
CREATED:20250127T222247Z
LAST-MODIFIED:20250127T231705Z
UID:28762-1739552400-1739563200@graywolfpeakcasino.com
SUMMARY:Valentine's Day Dinner Special at Lassaw
DESCRIPTION:Valentine’s Day Dinner Special at Lassaw Restaurant\n\n\nIndulge in a romantic evening with this Valentine’s Day dinner special at Lassaw Restaurant\, nestled inside the vibrant Gray Wolf Peak Casino. On Friday\, February 14th\, from 5 PM to 8 PM\, treat yourself and your loved one to an exquisite dining experience for just $85 per person. Our specially curated menu promises to delight your taste buds and create lasting memories. \n\n\nA Culinary Adventure\n\n\nBegin your dinner with our Arugula Salad topped with Shaved Parmesan\, a refreshing start to your special evening. Transitioning to the main course\, savor the rich flavors of our Aberdeen Angus Beef Ribeye\, accompanied by Butter-Roasted Brussels Sprouts and creamy Garlic Potatoes. To conclude this dining experience\, indulge in a classic Washington Apple Pie paired with velvety Vanilla Ice Cream. Guests are welcome to enjoy a complimentary glass of beer or wine with dinner. \n\n\nOur Culinary Vision\n\n\nAt Lassaw’s\, we are proud to present a new and enhanced culinary vision. Our kitchen\, led by a passionate and highly skilled chef\, is dedicated to delivering a genuine and memorable dining experience. We focus on the highest standards by using fresh\, local\, and seasonal ingredients whenever possible. Our mission is to craft quality dishes from scratch\, just for you. \n\n\nA Commitment to Quality\n\n\nWe believe in investing extra time and resources to ensure every meal is a memorable experience\, akin to those we cherish with our own families and friends. We are dedicated to crafting something truly special for you in Evaro. Join us this Valentine’s Day and taste the difference. \n\n\nMake Your Reservation\n\n\nSecure your spot for a special evening by calling us at 406-726-3778. Whether you’re celebrating new love or reaffirming timeless bonds\, Lassaw Restaurant promises an evening filled with exceptional food\, warm ambiance\, and cherished memories. \n\n\nAdditional Information\nFor more information about this event\, promotions\, property information\, or club member benefits\, call or visit our friendly Players Club team! \nExplore S&K Gaming\, LLC\nS&K Gaming\, LLC oversees three establishments on the Flathead Indian Reservation! Kwataqnuk Resort & Casino\, Big Arm Resort & Casino\, and Gray Wolf Peak Casino each have something different to offer everyone! From million-dollar views of the pristine Flathead Lake and the Mission Mountains\, dining\, club member benefits\, golf\, gas\, a banquet hall for various events\, and the largest casino in Montana\, S&K Gaming\, LLC has you covered. \nLearn More\nInterested in learning more about S&K Gaming\, LLC and our other locations? Visit our website at https://skgamingllc.com/.
URL:https://graywolfpeakcasino.com/event/valentines-day-dinner-special-at-lassaw/
CATEGORIES:Event,Food,specials
ATTACH;FMTTYPE=image/jpeg:https://graywolfpeakcasino.com/wp-content/uploads/2025/01/Lassaw-valentines-1920x1080-300dpi.jpg
END:VEVENT
END:VCALENDAR