BEGIN:VCALENDAR
VERSION:2.0
PRODID:-//Gray Wolf Peak Casino - ECPv6.15.20//NONSGML v1.0//EN
CALSCALE:GREGORIAN
METHOD:PUBLISH
X-WR-CALNAME:Gray Wolf Peak Casino
X-ORIGINAL-URL:https://graywolfpeakcasino.com
X-WR-CALDESC:Events for Gray Wolf Peak Casino
REFRESH-INTERVAL;VALUE=DURATION:PT1H
X-Robots-Tag:noindex
X-PUBLISHED-TTL:PT1H
BEGIN:VTIMEZONE
TZID:America/Denver
BEGIN:DAYLIGHT
TZOFFSETFROM:-0700
TZOFFSETTO:-0600
TZNAME:MDT
DTSTART:20230312T090000
END:DAYLIGHT
BEGIN:STANDARD
TZOFFSETFROM:-0600
TZOFFSETTO:-0700
TZNAME:MST
DTSTART:20231105T080000
END:STANDARD
BEGIN:DAYLIGHT
TZOFFSETFROM:-0700
TZOFFSETTO:-0600
TZNAME:MDT
DTSTART:20240310T090000
END:DAYLIGHT
BEGIN:STANDARD
TZOFFSETFROM:-0600
TZOFFSETTO:-0700
TZNAME:MST
DTSTART:20241103T080000
END:STANDARD
BEGIN:DAYLIGHT
TZOFFSETFROM:-0700
TZOFFSETTO:-0600
TZNAME:MDT
DTSTART:20250309T090000
END:DAYLIGHT
BEGIN:STANDARD
TZOFFSETFROM:-0600
TZOFFSETTO:-0700
TZNAME:MST
DTSTART:20251102T080000
END:STANDARD
END:VTIMEZONE
BEGIN:VEVENT
DTSTART;TZID=America/Denver:20240914T210000
DTEND;TZID=America/Denver:20240915T010000
DTSTAMP:20260420T181318
CREATED:20240823T223333Z
LAST-MODIFIED:20240823T223511Z
UID:28443-1726347600-1726362000@graywolfpeakcasino.com
SUMMARY:Karaoke at Lassaw
DESCRIPTION:Join us for Karaoke at Lassaw inside Gray Wolf Peak Casino from 9pm to 1am on Saturday\, September 14th and September 28th! Unleash your inner star and enjoy a night of fun and music! Nestled in the heart of Gray Wolf Peak Casino\, Lassaw is the perfect place to for karaoke fun! Whether you are a seasoned performer or a first-time singer\, Gray Wolf Peak Casino and Lassaw offers a welcoming atmosphere for everyone to showcase their talents. So\, bring your friends along! \n\n\nKaraoke at Gray Wolf Peak Casino is not just about singing; it’s about creating lasting memories with friends and family. The ambiance of Gray Wolf Peak Casino adds an extra layer of excitement to the evening. As you belt out your favorite tunes\, you’ll be surrounded by the vibrant energy of the casino. \n\n\nPlanning your Saturday night out with us! With Karaoke night at Gray Wolf Peak Casino happening on both September 14th and September 28th\, you have two opportunities to join in the fun. Arrive early to secure your spot on the playlist and enjoy a delicious meal at Gray Wolf Peak Casino’s restaurant (Lassaw) before the show begins. That’s a great prelude to Karaoke night! \n\n\nWe look forward to seeing you there\, ready to sing your heart out! \n 
URL:https://graywolfpeakcasino.com/event/karaoke-at-lassaw/
CATEGORIES:karaoke
END:VEVENT
BEGIN:VEVENT
DTSTART;TZID=America/Denver:20240928T210000
DTEND;TZID=America/Denver:20240929T010000
DTSTAMP:20260420T181318
CREATED:20240823T223550Z
LAST-MODIFIED:20240823T223550Z
UID:28446-1727557200-1727571600@graywolfpeakcasino.com
SUMMARY:Karaoke at Lassaw
DESCRIPTION:Join us for Karaoke at Lassaw inside Gray Wolf Peak Casino from 9pm to 1am on Saturday\, September 14th and September 28th! Unleash your inner star and enjoy a night of fun and music! Nestled in the heart of Gray Wolf Peak Casino\, Lassaw is the perfect place to for karaoke fun! Whether you are a seasoned performer or a first-time singer\, Gray Wolf Peak Casino and Lassaw offers a welcoming atmosphere for everyone to showcase their talents. So\, bring your friends along! \n\n\nKaraoke at Gray Wolf Peak Casino is not just about singing; it’s about creating lasting memories with friends and family. The ambiance of Gray Wolf Peak Casino adds an extra layer of excitement to the evening. As you belt out your favorite tunes\, you’ll be surrounded by the vibrant energy of the casino. \n\n\nPlanning your Saturday night out with us! With Karaoke night at Gray Wolf Peak Casino happening on both September 14th and September 28th\, you have two opportunities to join in the fun. Arrive early to secure your spot on the playlist and enjoy a delicious meal at Gray Wolf Peak Casino’s restaurant (Lassaw) before the show begins. That’s a great prelude to Karaoke night! \n\n\nWe look forward to seeing you there\, ready to sing your heart out! \n 
URL:https://graywolfpeakcasino.com/event/karaoke-at-lassaw-2/
CATEGORIES:karaoke
END:VEVENT
END:VCALENDAR