BEGIN:VCALENDAR
VERSION:2.0
PRODID:-//Gray Wolf Peak Casino - ECPv6.15.20//NONSGML v1.0//EN
CALSCALE:GREGORIAN
METHOD:PUBLISH
X-ORIGINAL-URL:https://graywolfpeakcasino.com
X-WR-CALDESC:Events for Gray Wolf Peak Casino
REFRESH-INTERVAL;VALUE=DURATION:PT1H
X-Robots-Tag:noindex
X-PUBLISHED-TTL:PT1H
BEGIN:VTIMEZONE
TZID:America/Denver
BEGIN:DAYLIGHT
TZOFFSETFROM:-0700
TZOFFSETTO:-0600
TZNAME:MDT
DTSTART:20240310T090000
END:DAYLIGHT
BEGIN:STANDARD
TZOFFSETFROM:-0600
TZOFFSETTO:-0700
TZNAME:MST
DTSTART:20241103T080000
END:STANDARD
BEGIN:DAYLIGHT
TZOFFSETFROM:-0700
TZOFFSETTO:-0600
TZNAME:MDT
DTSTART:20250309T090000
END:DAYLIGHT
BEGIN:STANDARD
TZOFFSETFROM:-0600
TZOFFSETTO:-0700
TZNAME:MST
DTSTART:20251102T080000
END:STANDARD
BEGIN:DAYLIGHT
TZOFFSETFROM:-0700
TZOFFSETTO:-0600
TZNAME:MDT
DTSTART:20260308T090000
END:DAYLIGHT
BEGIN:STANDARD
TZOFFSETFROM:-0600
TZOFFSETTO:-0700
TZNAME:MST
DTSTART:20261101T080000
END:STANDARD
END:VTIMEZONE
BEGIN:VEVENT
DTSTART;TZID=America/Denver:20250526T100000
DTEND;TZID=America/Denver:20250526T130000
DTSTAMP:20260420T031052
CREATED:20250417T191827Z
LAST-MODIFIED:20250417T191829Z
UID:28977-1748253600-1748264400@graywolfpeakcasino.com
SUMMARY:Memorial Day Xtra Credit Bonus
DESCRIPTION:Join us on Monday\, May 26th to redeem a Memorial Day Xtra Credit Bonus. This promotion runs for one day only! Join us in honoring those who served in the U.S. military and receive $10 in Xtra Credit. \n\n\nDates and Times of Promotion\n\n\nPromotion Date: Monday\, May 26th\nEarned Entry Point Dates:\n\nKTN: Monday\, May 26th – 9 AM to 1 PM\nGWP: Monday\, May 26th – 10 AM to 1 PM\n\n\n\n\nEvent Details\n\n\nSwing by KTN or GWP to enjoy the Memorial Day $10 Xtra Credit Bonus. This offer is open to all SKG Primier Rewards Card holders\, providing a meaningful moment to remember and honor U.S. military personnel who have served and passed. \n\n\nPromotional Eligibility Requirements\n\n\nEligibility: All SKG Premier Rewards members with a valid photo ID are eligible.\nRedemption: Redeem your Xtra Credit at the Players Club during the promotional hours on the same day.\nValidity: The Xtra Credit remains valid for 24 hours after issuance.\nMembership: Both new and existing SKG Premier Rewards members qualify for this offer.\n\n\nTake advantage of this special Memorial Day event and earn some extra rewards while paying tribute to our national heroes. We look forward to seeing you there! \n\n\nAdditional Information\nFor more information about this promotion and other promotions and club member benefits\, call or visit our friendly Players Club team! \nExplore S&K Gaming\, LLC\nS&K Gaming\, LLC oversees three establishments on the Flathead Indian Reservation! Kwataqnuk Resort & Casino\, Big Arm Resort & Casino\, and Gray Wolf Peak Casino each have something different to offer everyone! From million-dollar views of the pristine Flathead Lake and the Mission Mountains\, dining\, club member benefits\, golf\, gas\, a banquet hall for various events\, and the largest casino in Montana\, S&K Gaming\, LLC has you covered. \nLearn More\nInterested in learning more about S&K Gaming\, LLC and our other locations? Visit our website at https://skgamingllc.com/.
URL:https://graywolfpeakcasino.com/event/memorial-day-xtra-credit-bonus/
CATEGORIES:Promotions
ATTACH;FMTTYPE=image/jpeg:https://graywolfpeakcasino.com/wp-content/uploads/2025/04/memorialday-1920x1080-72dpi.jpg
END:VEVENT
END:VCALENDAR