BEGIN:VCALENDAR
VERSION:2.0
PRODID:-//Gray Wolf Peak Casino - ECPv6.15.20//NONSGML v1.0//EN
CALSCALE:GREGORIAN
METHOD:PUBLISH
X-ORIGINAL-URL:https://graywolfpeakcasino.com
X-WR-CALDESC:Events for Gray Wolf Peak Casino
REFRESH-INTERVAL;VALUE=DURATION:PT1H
X-Robots-Tag:noindex
X-PUBLISHED-TTL:PT1H
BEGIN:VTIMEZONE
TZID:America/Denver
BEGIN:DAYLIGHT
TZOFFSETFROM:-0700
TZOFFSETTO:-0600
TZNAME:MDT
DTSTART:20230312T090000
END:DAYLIGHT
BEGIN:STANDARD
TZOFFSETFROM:-0600
TZOFFSETTO:-0700
TZNAME:MST
DTSTART:20231105T080000
END:STANDARD
BEGIN:DAYLIGHT
TZOFFSETFROM:-0700
TZOFFSETTO:-0600
TZNAME:MDT
DTSTART:20240310T090000
END:DAYLIGHT
BEGIN:STANDARD
TZOFFSETFROM:-0600
TZOFFSETTO:-0700
TZNAME:MST
DTSTART:20241103T080000
END:STANDARD
BEGIN:DAYLIGHT
TZOFFSETFROM:-0700
TZOFFSETTO:-0600
TZNAME:MDT
DTSTART:20250309T090000
END:DAYLIGHT
BEGIN:STANDARD
TZOFFSETFROM:-0600
TZOFFSETTO:-0700
TZNAME:MST
DTSTART:20251102T080000
END:STANDARD
END:VTIMEZONE
BEGIN:VEVENT
DTSTART;TZID=America/Denver:20241030T100000
DTEND;TZID=America/Denver:20241030T170000
DTSTAMP:20260423T135332
CREATED:20240926T200235Z
LAST-MODIFIED:20240926T200235Z
UID:28555-1730282400-1730307600@graywolfpeakcasino.com
SUMMARY:Pays 2 Play
DESCRIPTION:It Pays 2 Play at Gray Wolf Peak Casino!\n\n\nDiscover the rewards with Pays 2 Play \n\n\nJoin us every Wednesday in October at Gray Wolf Peak Casino for our exclusive “Pays 2 Play” promotion! From October 2 to October 30\, 2024\, you have the chance to earn extra rewards just for playing your favorite slot machines. We’re offering $15 in Xtra Credit for every 500 points you play\, up to five times each Wednesday. Don’t miss out on this opportunity to boost your winnings and get more bang for your buck! \n\n\nEvent Dates and Times \n\n\nStart/End Dates: Wednesday\, October 2 – Wednesday\, October 30\, 2024\nTimes: Every Wednesday\, 10:00 am – 5:00 pm\n\n\nHow to Participate in Pays 2 Play\n\n\nPromotional Eligibility Requirements: \n\n\nActive Play Required: Patrons must be actively playing a slot machine with their players club card properly inserted during the promotional hours to earn points.\nSpecific Times: This promotion is valid only on Wednesdays from 10:00 am to 5:00 pm\, between October 2 and October 30\, 2024.\nEarning Xtra Credit: Participants can earn $15 in Xtra Credit for every 500 points played\, with a maximum of five redemptions per day.\nSame-Day Redemption: Players can only redeem the Xtra Credit on the same Wednesday that the points are earned.\nWhere to Redeem: Xtra Credit must be redeemed at the Players Club.\nRedemption Deadline: Play after 5:00 pm does not qualify for this promotion. Guests must redeem their Xtra Credit offer before 5:00 pm.\nValidity: Xtra Credit is valid for 24 hours after issuance and can only be used at Gray Wolf Peak Casino.\n\n\nJoin Us for Fun and Rewards\n\n\nHead over to Gray Wolf Peak Casino every Wednesday in October and take advantage of our Pays 2 Play promotion. Earn extra rewards while enjoying your favorite slot machines. Remember\, it pays 2 play\, and with up to $75 in Xtra Credit available each Wednesday\, you really could be our next big winner! \n\nAdditional Information\n\n\nFor more information about this promotion and other promotions and club member benefits\, call or visit our friendly Players Club team! \n\n\nExplore S&K Gaming\, LLC\n\n\nS&K Gaming\, LLC oversees three establishments on the Flathead Indian Reservation! Kwataqnuk Resort & Casino\, Big Arm Resort & Casino\, and Gray Wolf Peak Casino each have something different to offer everyone! From million-dollar views of the pristine Flathead Lake and the Mission Mountains\, dining\, club member benefits\, golf\, gas\, a banquet hall for various events\, and the largest casino in Montana\, S&K Gaming\, LLC has you covered. \n\n\nLearn More\n\n\nInterested in learning more about S&K Gaming\, LLC and our other locations? Visit our website at https://skgamingllc.com/.
URL:https://graywolfpeakcasino.com/event/pays-2-play-5/
CATEGORIES:Promotions
ATTACH;FMTTYPE=image/jpeg:https://graywolfpeakcasino.com/wp-content/uploads/2024/09/1024-GWP-Pays2PlayNT-Web.jpg
END:VEVENT
END:VCALENDAR