BEGIN:VCALENDAR
VERSION:2.0
PRODID:-//Gray Wolf Peak Casino - ECPv6.15.20//NONSGML v1.0//EN
CALSCALE:GREGORIAN
METHOD:PUBLISH
X-WR-CALNAME:Gray Wolf Peak Casino
X-ORIGINAL-URL:https://graywolfpeakcasino.com
X-WR-CALDESC:Events for Gray Wolf Peak Casino
REFRESH-INTERVAL;VALUE=DURATION:PT1H
X-Robots-Tag:noindex
X-PUBLISHED-TTL:PT1H
BEGIN:VTIMEZONE
TZID:America/Denver
BEGIN:DAYLIGHT
TZOFFSETFROM:-0700
TZOFFSETTO:-0600
TZNAME:MDT
DTSTART:20230312T090000
END:DAYLIGHT
BEGIN:STANDARD
TZOFFSETFROM:-0600
TZOFFSETTO:-0700
TZNAME:MST
DTSTART:20231105T080000
END:STANDARD
BEGIN:DAYLIGHT
TZOFFSETFROM:-0700
TZOFFSETTO:-0600
TZNAME:MDT
DTSTART:20240310T090000
END:DAYLIGHT
BEGIN:STANDARD
TZOFFSETFROM:-0600
TZOFFSETTO:-0700
TZNAME:MST
DTSTART:20241103T080000
END:STANDARD
BEGIN:DAYLIGHT
TZOFFSETFROM:-0700
TZOFFSETTO:-0600
TZNAME:MDT
DTSTART:20250309T090000
END:DAYLIGHT
BEGIN:STANDARD
TZOFFSETFROM:-0600
TZOFFSETTO:-0700
TZNAME:MST
DTSTART:20251102T080000
END:STANDARD
END:VTIMEZONE
BEGIN:VEVENT
DTSTART;TZID=America/Denver:20240928T220000
DTEND;TZID=America/Denver:20240928T223000
DTSTAMP:20260420T233141
CREATED:20240730T212820Z
LAST-MODIFIED:20240823T224604Z
UID:28420-1727560800-1727562600@graywolfpeakcasino.com
SUMMARY:$50\,000 Mountain of Cash Grand Finale Progressive Drawing
DESCRIPTION:$50\,000 Mountain of Cash Grand Finale Progressive Drawing\n\n\nScale new heights on the $50\,000 Mountain of Cash from August through September! Each drawing day\, lucky climbers have the chance to win up to $400 cash. On September 28th\, for the grand finale\, the ultimate winner will take home the seeded amount PLUS all unclaimed cash prizes\, making for an epic summit prize! \n\n\nHow to Participate\n\n\nTo earn entries\, you must be actively playing a slot machine with a properly inserted players club card during promotional days and hours. One drawing entry is earned for every 250 points earned. Patrons can accumulate entries all month long in August and September 2024\, from open to close. \n\n\nDrawing Procedures\n\n\nGuests must have their entries printed by the Players Club ten minutes before each drawing begins and placed into the drawing barrel five minutes before each drawing. Winners will have two minutes to report to the Player’s Club to claim their prize. If the winner does not claim the prize\, their name will be added to the Ineligible Players log\, and another name will not be called until the next drawing time or date. \n\n\nThe Grand Finale\n\n\nALL unclaimed prizes will be added to the progressive drawing on Saturday\, September 28th\, 2024\, at 10:00 pm. The final progressive drawing will continue until a guaranteed winner is present to claim the award. If a winner is called and is not present at the final drawing\, we will continue to draw names until one is present. Each name drawn in the final progressive drawing will have two minutes to report to the Player’s Club. \n\n\nWeekly Drawings\n\n\nOne drawing winner will be selected hourly from 6:00 pm – 9:00 pm every Monday\, Wednesday\, and Saturday in August and September 2024\, beginning Saturday\, August 3rd\, and ending Wednesday\, September 25th. All winners will receive a $400 cash prize. In total\, 96 drawing winners will receive $400 cash from August 3\, 2024\, to September 25\, 2024. \n\n\nFinal Drawings on September 28th\n\n\nSaturday\, September 28th is set as the final Mountain of Cash drawing date. Winners will receive the following prize amounts: \n\n\n6:00 pm drawing winner: $2\,000\n7:00 pm drawing winner: $2\,250\n8:00 pm drawing winner: $2\,500\n9:00 pm drawing winner: $2\,750\n10:00 pm drawing winner: $2\,100 seeded amount in addition to the progressive jackpot amount or all unclaimed awards from August and September drawings.\n\n\nRules and Regulations\n\n\nWinning patrons must be present at Gray Wolf Peak Casino to claim their prize(s). Patrons may win more than one drawing. All drawing entries will remain in the drawing barrel throughout the promotion’s duration. The drawing barrel will only be emptied AFTER the Grand Prize winner is confirmed. \n\n\nAdditional Information\n\n\nSee our friendly Players Club staff for more details about the $50\,000 Mountain of Cash and other promotions at any of our S&K Gaming locations.
URL:https://graywolfpeakcasino.com/event/50000-mountain-of-cash-grand-finale-progressive-drawing/
CATEGORIES:Promotions
END:VEVENT
END:VCALENDAR