BEGIN:VCALENDAR
VERSION:2.0
PRODID:-//Gray Wolf Peak Casino - ECPv6.15.20//NONSGML v1.0//EN
CALSCALE:GREGORIAN
METHOD:PUBLISH
X-ORIGINAL-URL:https://graywolfpeakcasino.com
X-WR-CALDESC:Events for Gray Wolf Peak Casino
REFRESH-INTERVAL;VALUE=DURATION:PT1H
X-Robots-Tag:noindex
X-PUBLISHED-TTL:PT1H
BEGIN:VTIMEZONE
TZID:America/Denver
BEGIN:DAYLIGHT
TZOFFSETFROM:-0700
TZOFFSETTO:-0600
TZNAME:MDT
DTSTART:20240310T090000
END:DAYLIGHT
BEGIN:STANDARD
TZOFFSETFROM:-0600
TZOFFSETTO:-0700
TZNAME:MST
DTSTART:20241103T080000
END:STANDARD
BEGIN:DAYLIGHT
TZOFFSETFROM:-0700
TZOFFSETTO:-0600
TZNAME:MDT
DTSTART:20250309T090000
END:DAYLIGHT
BEGIN:STANDARD
TZOFFSETFROM:-0600
TZOFFSETTO:-0700
TZNAME:MST
DTSTART:20251102T080000
END:STANDARD
BEGIN:DAYLIGHT
TZOFFSETFROM:-0700
TZOFFSETTO:-0600
TZNAME:MDT
DTSTART:20260308T090000
END:DAYLIGHT
BEGIN:STANDARD
TZOFFSETFROM:-0600
TZOFFSETTO:-0700
TZNAME:MST
DTSTART:20261101T080000
END:STANDARD
END:VTIMEZONE
BEGIN:VEVENT
DTSTART;TZID=America/Denver:20250407T100000
DTEND;TZID=America/Denver:20250407T170000
DTSTAMP:20260420T043231
CREATED:20250320T152343Z
LAST-MODIFIED:20250320T152343Z
UID:28839-1744020000-1744045200@graywolfpeakcasino.com
SUMMARY:Hometown Heroes
DESCRIPTION:Honoring Hometown Heroes – Join us at Gray Wolf Peak Casino and Kwataqnuk Resort & Casino as we honor our Hometown Heroes\, including veterans and first responders. This offer takes place every Monday from 10 AM to 5 PM. As a participant\, you have the opportunity to choose your reward: $10 Xtra Credit\, $10 Dining Credit\, or $10 Drink Credit. To redeem your reward\, simply earn 25 points and visit the Players Club. Remember\, you can claim one reward per person per day. Celebrate with us and enjoy great rewards! \n\n\nPromotional Eligibility Requirements\n\n\nTo be eligible for this promotion\, you need to be an SKG Premier Rewards member with valid photo ID and military service identification or first responder identification. Here’s what you’ll need: \n\n\nVeterans: Accepted forms of identification include a Common Access Card\, Retired Military ID\, DD Form 2 Card or DD Form 214\, VFW\, AMVETS\, Vietnam Veterans of America Membership Card\, Disabled American Veterans Membership Card\, or a VA Identification Card.\nFirst Responders: You can present an Employee ID\, Accountability Tag\, or Medical License accompanied by a photo ID.\n\n\nEligible patrons must be actively playing a slot machine with a properly inserted SKG Premier Rewards club card during the promotional days and hours to accumulate points. Earn 25 points to select one of the following rewards: $10 Xtra Credit\, $10 Dining Credit\, or $10 Drink Credit. \n\n\nThis exclusive promotion is available only on Mondays between 10:00 AM and 5:00 PM. Please note that you can redeem this offer only once per person per day. To claim your Xtra Credit\, Drink Voucher\, or Dining Voucher\, ensure you visit the Players Club within the promotional timeframe. The Xtra Credit is valid for 24 hours after issuance and must be used at the location where the points were earned. \n\n\nCelebrate our heroes and enjoy the rewards at Gray Wolf Peak Casino and Kwataqnuk Resort & Casino! \n\nAdditional Information\n\n\nFor more information about this promotion and other promotions and club member benefits\, call or visit our friendly Players Club team! \n\n\nExplore S&K Gaming\, LLC\n\n\nS&K Gaming\, LLC oversees three establishments on the Flathead Indian Reservation! Kwataqnuk Resort & Casino\, Big Arm Resort & Casino\, and Gray Wolf Peak Casino each have something different to offer everyone! From million-dollar views of the pristine Flathead Lake and the Mission Mountains\, dining\, club member benefits\, golf\, gas\, a banquet hall for various events\, and the largest casino in Montana\, S&K Gaming\, LLC has you covered. \n\n\nLearn More\n\n\nInterested in learning more about S&K Gaming\, LLC and our other locations? Visit our website at https://skgamingllc.com/.
URL:https://graywolfpeakcasino.com/event/hometown-heroes-23/
CATEGORIES:Food,Promotions
ATTACH;FMTTYPE=image/jpeg:https://graywolfpeakcasino.com/wp-content/uploads/2024/12/hometownheroes-1920x1080-1.jpg
END:VEVENT
BEGIN:VEVENT
DTSTART;TZID=America/Denver:20250411T140000
DTEND;TZID=America/Denver:20250411T220000
DTSTAMP:20260420T043231
CREATED:20250127T215756Z
LAST-MODIFIED:20250127T215756Z
UID:28758-1744380000-1744408800@graywolfpeakcasino.com
SUMMARY:Fortune Wheel Fridays
DESCRIPTION:Fortune Wheel Fridays: Spin Your Way to Riches\n\n\nJoin us every other Friday from February 14th to April 25th for Fortune Wheel Fridays! Settle in and spin your way to fortune with Xtra Credit and cash prizes. But wait\, there’s more! The progressive pot is the cherry on top! \n\n\nHow to Participate\n\n\nTo join the fun\, patrons must actively play a slot machine with a properly inserted SKG Premier Rewards club card during promotional days and hours. Eligible players will enter a hot seat drawing\, with winners chosen every other hour from 2:00 PM to 10:00 PM. Mark your calendars for the final draw at 11:00 PM on April 25th! \n\n\nClaiming Your Prize\n\n\nWinners have two minutes to claim their prize at the Player’s Club. If a winner fails to appear\, their name will be added to the Ineligible Players Log\, and another will be drawn. To qualify\, the wheel must complete at least two full rotations. \n\n\nProgressive Prize Details\n\n\nThe initial progressive prize starts at $1\,000 in cash\, increasing by $250 after each drawing it’s not won. If claimed\, the prize resets to $1\,000\, continuing to grow until the next win. Remember\, patrons can win more than once\, so keep playing for a chance to spin and win! \n\n\nEligibility Requirements\n\n\nAge and ID: Participants must be 18 or older with valid photo identification and proof of social security number.\nMembership: Only SKG Premier Rewards Club members can participate.\nExclusions: Employees of S&K Gaming\, LLC are not eligible for any promotions.\n\n\nImportant Information\n\n\nPrizes are non-transferable and can only be redeemed by the member to whom they were issued.\nManagement reserves the right to modify or cancel the promotion with notification to the Gaming Commission.\nWinners are responsible for all applicable reporting and taxes.\n\n\nJoin us for Fortune Wheel Fridays and test your luck for a chance to win cash and xtra credit prizes. Spin the wheel and make your fortune! \nAdditional information\nFor more information about this promotion and other promotions and club member benefits\, call or visit our friendly Players Club team! \nExplore S&K Gaming\, LLC\nS&K Gaming\, LLC oversees three establishments on the Flathead Indian Reservation! Kwataqnuk Resort & Casino\, Big Arm Resort & Casino\, and Gray Wolf Peak Casino each have something different to offer everyone! From million-dollar views of the pristine Flathead Lake and the Mission Mountains\, dining\, club member benefits\, golf\, gas\, a banquet hall for various events\, and the largest casino in Montana\, S&K Gaming\, LLC has you covered. \nLearn More\nInterested in learning more about S&K Gaming\, LLC and our other locations? Visit our website at https://skgamingllc.com/.
URL:https://graywolfpeakcasino.com/event/fortune-wheel-fridays-5/
CATEGORIES:Hot Seats,Promotions
ATTACH;FMTTYPE=image/jpeg:https://graywolfpeakcasino.com/wp-content/uploads/2025/01/fortunewheel-1920x1080-300dpi-scaled.jpg
END:VEVENT
BEGIN:VEVENT
DTSTART;TZID=America/Denver:20250414T100000
DTEND;TZID=America/Denver:20250414T170000
DTSTAMP:20260420T043231
CREATED:20250320T152447Z
LAST-MODIFIED:20250320T152447Z
UID:28841-1744624800-1744650000@graywolfpeakcasino.com
SUMMARY:Hometown Heroes
DESCRIPTION:Honoring Hometown Heroes – Join us at Gray Wolf Peak Casino and Kwataqnuk Resort & Casino as we honor our Hometown Heroes\, including veterans and first responders. This offer takes place every Monday from 10 AM to 5 PM. As a participant\, you have the opportunity to choose your reward: $10 Xtra Credit\, $10 Dining Credit\, or $10 Drink Credit. To redeem your reward\, simply earn 25 points and visit the Players Club. Remember\, you can claim one reward per person per day. Celebrate with us and enjoy great rewards! \n\n\nPromotional Eligibility Requirements\n\n\nTo be eligible for this promotion\, you need to be an SKG Premier Rewards member with valid photo ID and military service identification or first responder identification. Here’s what you’ll need: \n\n\nVeterans: Accepted forms of identification include a Common Access Card\, Retired Military ID\, DD Form 2 Card or DD Form 214\, VFW\, AMVETS\, Vietnam Veterans of America Membership Card\, Disabled American Veterans Membership Card\, or a VA Identification Card.\nFirst Responders: You can present an Employee ID\, Accountability Tag\, or Medical License accompanied by a photo ID.\n\n\nEligible patrons must be actively playing a slot machine with a properly inserted SKG Premier Rewards club card during the promotional days and hours to accumulate points. Earn 25 points to select one of the following rewards: $10 Xtra Credit\, $10 Dining Credit\, or $10 Drink Credit. \n\n\nThis exclusive promotion is available only on Mondays between 10:00 AM and 5:00 PM. Please note that you can redeem this offer only once per person per day. To claim your Xtra Credit\, Drink Voucher\, or Dining Voucher\, ensure you visit the Players Club within the promotional timeframe. The Xtra Credit is valid for 24 hours after issuance and must be used at the location where the points were earned. \n\n\nCelebrate our heroes and enjoy the rewards at Gray Wolf Peak Casino and Kwataqnuk Resort & Casino! \n\nAdditional Information\n\n\nFor more information about this promotion and other promotions and club member benefits\, call or visit our friendly Players Club team! \n\n\nExplore S&K Gaming\, LLC\n\n\nS&K Gaming\, LLC oversees three establishments on the Flathead Indian Reservation! Kwataqnuk Resort & Casino\, Big Arm Resort & Casino\, and Gray Wolf Peak Casino each have something different to offer everyone! From million-dollar views of the pristine Flathead Lake and the Mission Mountains\, dining\, club member benefits\, golf\, gas\, a banquet hall for various events\, and the largest casino in Montana\, S&K Gaming\, LLC has you covered. \n\n\nLearn More\n\n\nInterested in learning more about S&K Gaming\, LLC and our other locations? Visit our website at https://skgamingllc.com/.
URL:https://graywolfpeakcasino.com/event/hometown-heroes-24/
CATEGORIES:Food,Promotions
ATTACH;FMTTYPE=image/jpeg:https://graywolfpeakcasino.com/wp-content/uploads/2024/12/hometownheroes-1920x1080-1.jpg
END:VEVENT
BEGIN:VEVENT
DTSTART;TZID=America/Denver:20250421T100000
DTEND;TZID=America/Denver:20250421T170000
DTSTAMP:20260420T043231
CREATED:20250320T152515Z
LAST-MODIFIED:20250320T152515Z
UID:28843-1745229600-1745254800@graywolfpeakcasino.com
SUMMARY:Hometown Heroes
DESCRIPTION:Honoring Hometown Heroes – Join us at Gray Wolf Peak Casino and Kwataqnuk Resort & Casino as we honor our Hometown Heroes\, including veterans and first responders. This offer takes place every Monday from 10 AM to 5 PM. As a participant\, you have the opportunity to choose your reward: $10 Xtra Credit\, $10 Dining Credit\, or $10 Drink Credit. To redeem your reward\, simply earn 25 points and visit the Players Club. Remember\, you can claim one reward per person per day. Celebrate with us and enjoy great rewards! \n\n\nPromotional Eligibility Requirements\n\n\nTo be eligible for this promotion\, you need to be an SKG Premier Rewards member with valid photo ID and military service identification or first responder identification. Here’s what you’ll need: \n\n\nVeterans: Accepted forms of identification include a Common Access Card\, Retired Military ID\, DD Form 2 Card or DD Form 214\, VFW\, AMVETS\, Vietnam Veterans of America Membership Card\, Disabled American Veterans Membership Card\, or a VA Identification Card.\nFirst Responders: You can present an Employee ID\, Accountability Tag\, or Medical License accompanied by a photo ID.\n\n\nEligible patrons must be actively playing a slot machine with a properly inserted SKG Premier Rewards club card during the promotional days and hours to accumulate points. Earn 25 points to select one of the following rewards: $10 Xtra Credit\, $10 Dining Credit\, or $10 Drink Credit. \n\n\nThis exclusive promotion is available only on Mondays between 10:00 AM and 5:00 PM. Please note that you can redeem this offer only once per person per day. To claim your Xtra Credit\, Drink Voucher\, or Dining Voucher\, ensure you visit the Players Club within the promotional timeframe. The Xtra Credit is valid for 24 hours after issuance and must be used at the location where the points were earned. \n\n\nCelebrate our heroes and enjoy the rewards at Gray Wolf Peak Casino and Kwataqnuk Resort & Casino! \n\nAdditional Information\n\n\nFor more information about this promotion and other promotions and club member benefits\, call or visit our friendly Players Club team! \n\n\nExplore S&K Gaming\, LLC\n\n\nS&K Gaming\, LLC oversees three establishments on the Flathead Indian Reservation! Kwataqnuk Resort & Casino\, Big Arm Resort & Casino\, and Gray Wolf Peak Casino each have something different to offer everyone! From million-dollar views of the pristine Flathead Lake and the Mission Mountains\, dining\, club member benefits\, golf\, gas\, a banquet hall for various events\, and the largest casino in Montana\, S&K Gaming\, LLC has you covered. \n\n\nLearn More\n\n\nInterested in learning more about S&K Gaming\, LLC and our other locations? Visit our website at https://skgamingllc.com/.
URL:https://graywolfpeakcasino.com/event/hometown-heroes-25/
CATEGORIES:Food,Promotions
ATTACH;FMTTYPE=image/jpeg:https://graywolfpeakcasino.com/wp-content/uploads/2024/12/hometownheroes-1920x1080-1.jpg
END:VEVENT
BEGIN:VEVENT
DTSTART;TZID=America/Denver:20250425T140000
DTEND;TZID=America/Denver:20250425T230000
DTSTAMP:20260420T043231
CREATED:20250127T215825Z
LAST-MODIFIED:20250127T215825Z
UID:28760-1745589600-1745622000@graywolfpeakcasino.com
SUMMARY:Fortune Wheel Fridays
DESCRIPTION:Fortune Wheel Fridays: Spin Your Way to Riches\n\n\nJoin us every other Friday from February 14th to April 25th for Fortune Wheel Fridays! Settle in and spin your way to fortune with Xtra Credit and cash prizes. But wait\, there’s more! The progressive pot is the cherry on top! \n\n\nHow to Participate\n\n\nTo join the fun\, patrons must actively play a slot machine with a properly inserted SKG Premier Rewards club card during promotional days and hours. Eligible players will enter a hot seat drawing\, with winners chosen every other hour from 2:00 PM to 10:00 PM. Mark your calendars for the final draw at 11:00 PM on April 25th! \n\n\nClaiming Your Prize\n\n\nWinners have two minutes to claim their prize at the Player’s Club. If a winner fails to appear\, their name will be added to the Ineligible Players Log\, and another will be drawn. To qualify\, the wheel must complete at least two full rotations. \n\n\nProgressive Prize Details\n\n\nThe initial progressive prize starts at $1\,000 in cash\, increasing by $250 after each drawing it’s not won. If claimed\, the prize resets to $1\,000\, continuing to grow until the next win. Remember\, patrons can win more than once\, so keep playing for a chance to spin and win! \n\n\nEligibility Requirements\n\n\nAge and ID: Participants must be 18 or older with valid photo identification and proof of social security number.\nMembership: Only SKG Premier Rewards Club members can participate.\nExclusions: Employees of S&K Gaming\, LLC are not eligible for any promotions.\n\n\nImportant Information\n\n\nPrizes are non-transferable and can only be redeemed by the member to whom they were issued.\nManagement reserves the right to modify or cancel the promotion with notification to the Gaming Commission.\nWinners are responsible for all applicable reporting and taxes.\n\n\nJoin us for Fortune Wheel Fridays and test your luck for a chance to win cash and xtra credit prizes. Spin the wheel and make your fortune! \nAdditional information\nFor more information about this promotion and other promotions and club member benefits\, call or visit our friendly Players Club team! \nExplore S&K Gaming\, LLC\nS&K Gaming\, LLC oversees three establishments on the Flathead Indian Reservation! Kwataqnuk Resort & Casino\, Big Arm Resort & Casino\, and Gray Wolf Peak Casino each have something different to offer everyone! From million-dollar views of the pristine Flathead Lake and the Mission Mountains\, dining\, club member benefits\, golf\, gas\, a banquet hall for various events\, and the largest casino in Montana\, S&K Gaming\, LLC has you covered. \nLearn More\nInterested in learning more about S&K Gaming\, LLC and our other locations? Visit our website at https://skgamingllc.com/.
URL:https://graywolfpeakcasino.com/event/fortune-wheel-fridays-6/
CATEGORIES:Hot Seats,Promotions
ATTACH;FMTTYPE=image/jpeg:https://graywolfpeakcasino.com/wp-content/uploads/2025/01/fortunewheel-1920x1080-300dpi-scaled.jpg
END:VEVENT
BEGIN:VEVENT
DTSTART;TZID=America/Denver:20250428T100000
DTEND;TZID=America/Denver:20250428T170000
DTSTAMP:20260420T043231
CREATED:20250320T152542Z
LAST-MODIFIED:20250320T152542Z
UID:28845-1745834400-1745859600@graywolfpeakcasino.com
SUMMARY:Hometown Heroes
DESCRIPTION:Honoring Hometown Heroes – Join us at Gray Wolf Peak Casino and Kwataqnuk Resort & Casino as we honor our Hometown Heroes\, including veterans and first responders. This offer takes place every Monday from 10 AM to 5 PM. As a participant\, you have the opportunity to choose your reward: $10 Xtra Credit\, $10 Dining Credit\, or $10 Drink Credit. To redeem your reward\, simply earn 25 points and visit the Players Club. Remember\, you can claim one reward per person per day. Celebrate with us and enjoy great rewards! \n\n\nPromotional Eligibility Requirements\n\n\nTo be eligible for this promotion\, you need to be an SKG Premier Rewards member with valid photo ID and military service identification or first responder identification. Here’s what you’ll need: \n\n\nVeterans: Accepted forms of identification include a Common Access Card\, Retired Military ID\, DD Form 2 Card or DD Form 214\, VFW\, AMVETS\, Vietnam Veterans of America Membership Card\, Disabled American Veterans Membership Card\, or a VA Identification Card.\nFirst Responders: You can present an Employee ID\, Accountability Tag\, or Medical License accompanied by a photo ID.\n\n\nEligible patrons must be actively playing a slot machine with a properly inserted SKG Premier Rewards club card during the promotional days and hours to accumulate points. Earn 25 points to select one of the following rewards: $10 Xtra Credit\, $10 Dining Credit\, or $10 Drink Credit. \n\n\nThis exclusive promotion is available only on Mondays between 10:00 AM and 5:00 PM. Please note that you can redeem this offer only once per person per day. To claim your Xtra Credit\, Drink Voucher\, or Dining Voucher\, ensure you visit the Players Club within the promotional timeframe. The Xtra Credit is valid for 24 hours after issuance and must be used at the location where the points were earned. \n\n\nCelebrate our heroes and enjoy the rewards at Gray Wolf Peak Casino and Kwataqnuk Resort & Casino! \n\nAdditional Information\n\n\nFor more information about this promotion and other promotions and club member benefits\, call or visit our friendly Players Club team! \n\n\nExplore S&K Gaming\, LLC\n\n\nS&K Gaming\, LLC oversees three establishments on the Flathead Indian Reservation! Kwataqnuk Resort & Casino\, Big Arm Resort & Casino\, and Gray Wolf Peak Casino each have something different to offer everyone! From million-dollar views of the pristine Flathead Lake and the Mission Mountains\, dining\, club member benefits\, golf\, gas\, a banquet hall for various events\, and the largest casino in Montana\, S&K Gaming\, LLC has you covered. \n\n\nLearn More\n\n\nInterested in learning more about S&K Gaming\, LLC and our other locations? Visit our website at https://skgamingllc.com/.
URL:https://graywolfpeakcasino.com/event/hometown-heroes-26/
CATEGORIES:Food,Promotions
ATTACH;FMTTYPE=image/jpeg:https://graywolfpeakcasino.com/wp-content/uploads/2024/12/hometownheroes-1920x1080-1.jpg
END:VEVENT
END:VCALENDAR